Workbook

Sheet Долги
A1: Таблица погашения долгов: снежный ком и лавина
A2: Заполните жёлтые ячейки — порядок, сроки и переплата посчитаются сами. Расчёт как в приложении Погашу: pogashu.ru
A4: Доплата в месяц сверх минимальных платежей | D4: 8000
A5: Месяц первого платежа | D5: =DATE(YEAR(TODAY()),MONTH(TODAY())+1,1) -> 46296
A7: Долг | B7: Остаток | C7: Ставка, % годовых | D7: Мин. платёж в месяц | E7: Проценты в месяц | F7: Очередь: снежный ком | G7: Очередь: лавина | H7: Закроется: снежный ком | I7: Закроется: лавина | J7: Проверка
A8: Рассрочка на технику | B8: 40000 | C8: 0 | D8: 4000 | E8: =IF(B8>0,ROUND(B8*C8/1200,2),"") -> 0 | F8: =IF(B8>0,COUNTIFS($B$8:$B$17,">0",$L$8:$L$17,"<"&L8)+1,"") -> 1 | G8: =IF(B8>0,COUNTIFS($B$8:$B$17,">0",$M$8:$M$17,">"&M8)+1,"") -> 3 | H8: =IF(B8>0,IF(ISNUMBER(INDEX('Снежный ком'!$R$3:$AA$3,1,F8)),EDATE($D$5,INDEX('Снежный ком'!$R$3:$AA$3,1,F8)-1),"более 30 лет"),"") -> 46388 | I8: =IF(B8>0,IF(ISNUMBER(INDEX(Лавина!$R$3:$AA$3,1,G8)),EDATE($D$5,INDEX(Лавина!$R$3:$AA$3,1,G8)-1),"более 30 лет"),"") -> 46569 | J8: =IF(B8>0,IF(D8<=E8,"платёж не покрывает проценты",""),"") | L8: =B8+ROW()/10000 -> 40000.001 | M8: =C8-ROW()/100000 -> -8e-05
A9: Потребкредит | B9: 180000 | C9: 19 | D9: 6500 | E9: =IF(B9>0,ROUND(B9*C9/1200,2),"") -> 2850 | F9: =IF(B9>0,COUNTIFS($B$8:$B$17,">0",$L$8:$L$17,"<"&L9)+1,"") -> 2 | G9: =IF(B9>0,COUNTIFS($B$8:$B$17,">0",$M$8:$M$17,">"&M9)+1,"") -> 2 | H9: =IF(B9>0,IF(ISNUMBER(INDEX('Снежный ком'!$R$3:$AA$3,1,F9)),EDATE($D$5,INDEX('Снежный ком'!$R$3:$AA$3,1,F9)-1),"более 30 лет"),"") -> 46692 | I9: =IF(B9>0,IF(ISNUMBER(INDEX(Лавина!$R$3:$AA$3,1,G9)),EDATE($D$5,INDEX(Лавина!$R$3:$AA$3,1,G9)-1),"более 30 лет"),"") -> 46844 | J9: =IF(B9>0,IF(D9<=E9,"платёж не покрывает проценты",""),"") | L9: =B9+ROW()/10000 -> 180000 | M9: =C9-ROW()/100000 -> 18.99991
A10: Кредитная карта | B10: 250000 | C10: 39.9 | D10: 12500 | E10: =IF(B10>0,ROUND(B10*C10/1200,2),"") -> 8312.5 | F10: =IF(B10>0,COUNTIFS($B$8:$B$17,">0",$L$8:$L$17,"<"&L10)+1,"") -> 3 | G10: =IF(B10>0,COUNTIFS($B$8:$B$17,">0",$M$8:$M$17,">"&M10)+1,"") -> 1 | H10: =IF(B10>0,IF(ISNUMBER(INDEX('Снежный ком'!$R$3:$AA$3,1,F10)),EDATE($D$5,INDEX('Снежный ком'!$R$3:$AA$3,1,F10)-1),"более 30 лет"),"") -> 46874 | I10: =IF(B10>0,IF(ISNUMBER(INDEX(Лавина!$R$3:$AA$3,1,G10)),EDATE($D$5,INDEX(Лавина!$R$3:$AA$3,1,G10)-1),"более 30 лет"),"") -> 46722 | J10: =IF(B10>0,IF(D10<=E10,"платёж не покрывает проценты",""),"") | L10: =B10+ROW()/10000 -> 250000 | M10: =C10-ROW()/100000 -> 39.8999
E11: =IF(B11>0,ROUND(B11*C11/1200,2),"") | F11: =IF(B11>0,COUNTIFS($B$8:$B$17,">0",$L$8:$L$17,"<"&L11)+1,"") | G11: =IF(B11>0,COUNTIFS($B$8:$B$17,">0",$M$8:$M$17,">"&M11)+1,"") | H11: =IF(B11>0,IF(ISNUMBER(INDEX('Снежный ком'!$R$3:$AA$3,1,F11)),EDATE($D$5,INDEX('Снежный ком'!$R$3:$AA$3,1,F11)-1),"более 30 лет"),"") | I11: =IF(B11>0,IF(ISNUMBER(INDEX(Лавина!$R$3:$AA$3,1,G11)),EDATE($D$5,INDEX(Лавина!$R$3:$AA$3,1,G11)-1),"более 30 лет"),"") | J11: =IF(B11>0,IF(D11<=E11,"платёж не покрывает проценты",""),"") | L11: =B11+ROW()/10000 -> 0.0011 | M11: =C11-ROW()/100000 -> -0.00011
E12: =IF(B12>0,ROUND(B12*C12/1200,2),"") | F12: =IF(B12>0,COUNTIFS($B$8:$B$17,">0",$L$8:$L$17,"<"&L12)+1,"") | G12: =IF(B12>0,COUNTIFS($B$8:$B$17,">0",$M$8:$M$17,">"&M12)+1,"") | H12: =IF(B12>0,IF(ISNUMBER(INDEX('Снежный ком'!$R$3:$AA$3,1,F12)),EDATE($D$5,INDEX('Снежный ком'!$R$3:$AA$3,1,F12)-1),"более 30 лет"),"") | I12: =IF(B12>0,IF(ISNUMBER(INDEX(Лавина!$R$3:$AA$3,1,G12)),EDATE($D$5,INDEX(Лавина!$R$3:$AA$3,1,G12)-1),"более 30 лет"),"") | J12: =IF(B12>0,IF(D12<=E12,"платёж не покрывает проценты",""),"") | L12: =B12+ROW()/10000 -> 0.0012 | M12: =C12-ROW()/100000 -> -0.00012
E13: =IF(B13>0,ROUND(B13*C13/1200,2),"") | F13: =IF(B13>0,COUNTIFS($B$8:$B$17,">0",$L$8:$L$17,"<"&L13)+1,"") | G13: =IF(B13>0,COUNTIFS($B$8:$B$17,">0",$M$8:$M$17,">"&M13)+1,"") | H13: =IF(B13>0,IF(ISNUMBER(INDEX('Снежный ком'!$R$3:$AA$3,1,F13)),EDATE($D$5,INDEX('Снежный ком'!$R$3:$AA$3,1,F13)-1),"более 30 лет"),"") | I13: =IF(B13>0,IF(ISNUMBER(INDEX(Лавина!$R$3:$AA$3,1,G13)),EDATE($D$5,INDEX(Лавина!$R$3:$AA$3,1,G13)-1),"более 30 лет"),"") | J13: =IF(B13>0,IF(D13<=E13,"платёж не покрывает проценты",""),"") | L13: =B13+ROW()/10000 -> 0.0013 | M13: =C13-ROW()/100000 -> -0.00013
E14: =IF(B14>0,ROUND(B14*C14/1200,2),"") | F14: =IF(B14>0,COUNTIFS($B$8:$B$17,">0",$L$8:$L$17,"<"&L14)+1,"") | G14: =IF(B14>0,COUNTIFS($B$8:$B$17,">0",$M$8:$M$17,">"&M14)+1,"") | H14: =IF(B14>0,IF(ISNUMBER(INDEX('Снежный ком'!$R$3:$AA$3,1,F14)),EDATE($D$5,INDEX('Снежный ком'!$R$3:$AA$3,1,F14)-1),"более 30 лет"),"") | I14: =IF(B14>0,IF(ISNUMBER(INDEX(Лавина!$R$3:$AA$3,1,G14)),EDATE($D$5,INDEX(Лавина!$R$3:$AA$3,1,G14)-1),"более 30 лет"),"") | J14: =IF(B14>0,IF(D14<=E14,"платёж не покрывает проценты",""),"") | L14: =B14+ROW()/10000 -> 0.0014 | M14: =C14-ROW()/100000 -> -0.00014
E15: =IF(B15>0,ROUND(B15*C15/1200,2),"") | F15: =IF(B15>0,COUNTIFS($B$8:$B$17,">0",$L$8:$L$17,"<"&L15)+1,"") | G15: =IF(B15>0,COUNTIFS($B$8:$B$17,">0",$M$8:$M$17,">"&M15)+1,"") | H15: =IF(B15>0,IF(ISNUMBER(INDEX('Снежный ком'!$R$3:$AA$3,1,F15)),EDATE($D$5,INDEX('Снежный ком'!$R$3:$AA$3,1,F15)-1),"более 30 лет"),"") | I15: =IF(B15>0,IF(ISNUMBER(INDEX(Лавина!$R$3:$AA$3,1,G15)),EDATE($D$5,INDEX(Лавина!$R$3:$AA$3,1,G15)-1),"более 30 лет"),"") | J15: =IF(B15>0,IF(D15<=E15,"платёж не покрывает проценты",""),"") | L15: =B15+ROW()/10000 -> 0.0015 | M15: =C15-ROW()/100000 -> -0.00015
E16: =IF(B16>0,ROUND(B16*C16/1200,2),"") | F16: =IF(B16>0,COUNTIFS($B$8:$B$17,">0",$L$8:$L$17,"<"&L16)+1,"") | G16: =IF(B16>0,COUNTIFS($B$8:$B$17,">0",$M$8:$M$17,">"&M16)+1,"") | H16: =IF(B16>0,IF(ISNUMBER(INDEX('Снежный ком'!$R$3:$AA$3,1,F16)),EDATE($D$5,INDEX('Снежный ком'!$R$3:$AA$3,1,F16)-1),"более 30 лет"),"") | I16: =IF(B16>0,IF(ISNUMBER(INDEX(Лавина!$R$3:$AA$3,1,G16)),EDATE($D$5,INDEX(Лавина!$R$3:$AA$3,1,G16)-1),"более 30 лет"),"") | J16: =IF(B16>0,IF(D16<=E16,"платёж не покрывает проценты",""),"") | L16: =B16+ROW()/10000 -> 0.0016 | M16: =C16-ROW()/100000 -> -0.00016
E17: =IF(B17>0,ROUND(B17*C17/1200,2),"") | F17: =IF(B17>0,COUNTIFS($B$8:$B$17,">0",$L$8:$L$17,"<"&L17)+1,"") | G17: =IF(B17>0,COUNTIFS($B$8:$B$17,">0",$M$8:$M$17,">"&M17)+1,"") | H17: =IF(B17>0,IF(ISNUMBER(INDEX('Снежный ком'!$R$3:$AA$3,1,F17)),EDATE($D$5,INDEX('Снежный ком'!$R$3:$AA$3,1,F17)-1),"более 30 лет"),"") | I17: =IF(B17>0,IF(ISNUMBER(INDEX(Лавина!$R$3:$AA$3,1,G17)),EDATE($D$5,INDEX(Лавина!$R$3:$AA$3,1,G17)-1),"более 30 лет"),"") | J17: =IF(B17>0,IF(D17<=E17,"платёж не покрывает проценты",""),"") | L17: =B17+ROW()/10000 -> 0.0017 | M17: =C17-ROW()/100000 -> -0.00017
A19: Бюджет на долги в месяц (минимальные платежи + доплата) | D19: =SUMIF($B$8:$B$17,">0",$D$8:$D$17)+$D$4 -> 31000
A21: Итог | D21: Снежный ком | E21: Лавина
A22: Месяцев до закрытия всех долгов | D22: =IF('Снежный ком'!$F$365>0.005,"более 360",COUNT('Снежный ком'!$A$6:$A$365)) -> 20 | E22: =IF(Лавина!$F$365>0.005,"более 360",COUNT(Лавина!$A$6:$A$365)) -> 19
A23: Месяц последнего платежа | D23: =IF(ISNUMBER(D22),EDATE($D$5,D22-1),"—") -> 46874 | E23: =IF(ISNUMBER(E22),EDATE($D$5,E22-1),"—") -> 46844
A24: Переплата (проценты) | D24: =SUM('Снежный ком'!$D$6:$D$365) -> 144800 | E24: =SUM(Лавина!$D$6:$D$365) -> 114714.56
A25: Всего выплатите | D25: =SUM('Снежный ком'!$C$6:$C$365) -> 614800 | E25: =SUM(Лавина!$C$6:$C$365) -> 584714.56
A26: Первый долг закрыт через (мес.) | D26: =MIN('Снежный ком'!$R$3:$AA$3) -> 4 | E26: =MIN(Лавина!$R$3:$AA$3) -> 10
A28: Лавина экономит на процентах | D28: =D24-E24 -> 30085.44
A29: Лавина быстрее на (мес.) | D29: =IF(AND(ISNUMBER(D22),ISNUMBER(E22)),D22-E22,"—") -> 1
A31: =IF(D28<1,"Методы дают одинаковый результат — берите снежный ком: быстрые победы бесплатно.","Лавина дешевле. Если разница для вас заметна — гасите по лавине.") -> Лавина дешевле. Если разница для вас заметна — гасите по лавине.

Sheet Снежный ком
A1: График по методу «снежный ком»: доплата идёт в самый маленький долг
H2: Платежи по долгам | R2: Остатки по долгам | AB2: Проценты по долгам | AL2: Служебное: обязательный платёж
A3: Закроется через (мес.) | R3: =IF(R$5>0,IF(R$365>0,"более 30 лет",COUNTIF(R$6:R$365,">0")+1),"") -> 4 | S3: =IF(S$5>0,IF(S$365>0,"более 30 лет",COUNTIF(S$6:S$365,">0")+1),"") -> 14 | T3: =IF(T$5>0,IF(T$365>0,"более 30 лет",COUNTIF(T$6:T$365,">0")+1),"") -> 20 | U3: =IF(U$5>0,IF(U$365>0,"более 30 лет",COUNTIF(U$6:U$365,">0")+1),"") | V3: =IF(V$5>0,IF(V$365>0,"более 30 лет",COUNTIF(V$6:V$365,">0")+1),"") | W3: =IF(W$5>0,IF(W$365>0,"более 30 лет",COUNTIF(W$6:W$365,">0")+1),"") | X3: =IF(X$5>0,IF(X$365>0,"более 30 лет",COUNTIF(X$6:X$365,">0")+1),"") | Y3: =IF(Y$5>0,IF(Y$365>0,"более 30 лет",COUNTIF(Y$6:Y$365,">0")+1),"") | ... AA3: =IF(AA$5>0,IF(AA$365>0,"более 30 лет",COUNTIF(AA$6:AA$365,">0")+1),"")
A4: № | B4: Месяц | C4: Платёж | D4: Проценты | E4: В тело долга | F4: Остаток | G4: Осталось | H4: =IFERROR(INDEX(Долги!$A$8:$A$17,MATCH(1,Долги!$F$8:$F$17,0)),"—") -> Рассрочка на технику | I4: =IFERROR(INDEX(Долги!$A$8:$A$17,MATCH(2,Долги!$F$8:$F$17,0)),"—") -> Потребкредит | J4: =IFERROR(INDEX(Долги!$A$8:$A$17,MATCH(3,Долги!$F$8:$F$17,0)),"—") -> Кредитная карта | K4: =IFERROR(INDEX(Долги!$A$8:$A$17,MATCH(4,Долги!$F$8:$F$17,0)),"—") -> — | L4: =IFERROR(INDEX(Долги!$A$8:$A$17,MATCH(5,Долги!$F$8:$F$17,0)),"—") -> — | M4: =IFERROR(INDEX(Долги!$A$8:$A$17,MATCH(6,Долги!$F$8:$F$17,0)),"—") -> — | N4: =IFERROR(INDEX(Долги!$A$8:$A$17,MATCH(7,Долги!$F$8:$F$17,0)),"—") -> — | O4: =IFERROR(INDEX(Долги!$A$8:$A$17,MATCH(8,Долги!$F$8:$F$17,0)),"—") -> — | P4: =IFERROR(INDEX(Долги!$A$8:$A$17,MATCH(9,Долги!$F$8:$F$17,0)),"—") -> — | Q4: =IFERROR(INDEX(Долги!$A$8:$A$17,MATCH(10,Долги!$F$8:$F$17,0)),"—") -> — | R4: =IFERROR(INDEX(Долги!$A$8:$A$17,MATCH(1,Долги!$F$8:$F$17,0)),"—") -> Рассрочка на технику | S4: =IFERROR(INDEX(Долги!$A$8:$A$17,MATCH(2,Долги!$F$8:$F$17,0)),"—") -> Потребкредит | T4: =IFERROR(INDEX(Долги!$A$8:$A$17,MATCH(3,Долги!$F$8:$F$17,0)),"—") -> Кредитная карта | U4: =IFERROR(INDEX(Долги!$A$8:$A$17,MATCH(4,Долги!$F$8:$F$17,0)),"—") -> — | V4: =IFERROR(INDEX(Долги!$A$8:$A$17,MATCH(5,Долги!$F$8:$F$17,0)),"—") -> — | W4: =IFERROR(INDEX(Долги!$A$8:$A$17,MATCH(6,Долги!$F$8:$F$17,0)),"—") -> — | X4: =IFERROR(INDEX(Долги!$A$8:$A$17,MATCH(7,Долги!$F$8:$F$17,0)),"—") -> — | Y4: =IFERROR(INDEX(Долги!$A$8:$A$17,MATCH(8,Долги!$F$8:$F$17,0)),"—") -> — | Z4: =IFERROR(INDEX(Долги!$A$8:$A$17,MATCH(9,Долги!$F$8:$F$17,0)),"—") -> — | AA4: =IFERROR(INDEX(Долги!$A$8:$A$17,MATCH(10,Долги!$F$8:$F$17,0)),"—") -> — | AB4: =IFERROR(INDEX(Долги!$A$8:$A$17,MATCH(1,Долги!$F$8:$F$17,0)),"—") -> Рассрочка на технику | AC4: =IFERROR(INDEX(Долги!$A$8:$A$17,MATCH(2,Долги!$F$8:$F$17,0)),"—") -> Потребкредит | AD4: =IFERROR(INDEX(Долги!$A$8:$A$17,MATCH(3,Долги!$F$8:$F$17,0)),"—") -> Кредитная карта | AE4: =IFERROR(INDEX(Долги!$A$8:$A$17,MATCH(4,Долги!$F$8:$F$17,0)),"—") -> — | AF4: =IFERROR(INDEX(Долги!$A$8:$A$17,MATCH(5,Долги!$F$8:$F$17,0)),"—") -> — | AG4: =IFERROR(INDEX(Долги!$A$8:$A$17,MATCH(6,Долги!$F$8:$F$17,0)),"—") -> — | AH4: =IFERROR(INDEX(Долги!$A$8:$A$17,MATCH(7,Долги!$F$8:$F$17,0)),"—") -> — | AI4: =IFERROR(INDEX(Долги!$A$8:$A$17,MATCH(8,Долги!$F$8:$F$17,0)),"—") -> — | AJ4: =IFERROR(INDEX(Долги!$A$8:$A$17,MATCH(9,Долги!$F$8:$F$17,0)),"—") -> — | AK4: =IFERROR(INDEX(Долги!$A$8:$A$17,MATCH(10,Долги!$F$8:$F$17,0)),"—") -> — | AL4: =IFERROR(INDEX(Долги!$A$8:$A$17,MATCH(1,Долги!$F$8:$F$17,0)),"—") -> Рассрочка на технику | AM4: =IFERROR(INDEX(Долги!$A$8:$A$17,MATCH(2,Долги!$F$8:$F$17,0)),"—") -> Потребкредит | AN4: =IFERROR(INDEX(Долги!$A$8:$A$17,MATCH(3,Долги!$F$8:$F$17,0)),"—") -> Кредитная карта | AO4: =IFERROR(INDEX(Долги!$A$8:$A$17,MATCH(4,Долги!$F$8:$F$17,0)),"—") -> — | AP4: =IFERROR(INDEX(Долги!$A$8:$A$17,MATCH(5,Долги!$F$8:$F$17,0)),"—") -> — | AQ4: =IFERROR(INDEX(Долги!$A$8:$A$17,MATCH(6,Долги!$F$8:$F$17,0)),"—") -> — | AR4: =IFERROR(INDEX(Долги!$A$8:$A$17,MATCH(7,Долги!$F$8:$F$17,0)),"—") -> — | AS4: =IFERROR(INDEX(Долги!$A$8:$A$17,MATCH(8,Долги!$F$8:$F$17,0)),"—") -> — | AT4: =IFERROR(INDEX(Долги!$A$8:$A$17,MATCH(9,Долги!$F$8:$F$17,0)),"—") -> — | AU4: =IFERROR(INDEX(Долги!$A$8:$A$17,MATCH(10,Долги!$F$8:$F$17,0)),"—") -> —
B5: старт | F5: =SUM(R5:AA5) -> 470000 | R5: =IFERROR(INDEX(Долги!$B$8:$B$17,MATCH(1,Долги!$F$8:$F$17,0)),0) -> 40000 | S5: =IFERROR(INDEX(Долги!$B$8:$B$17,MATCH(2,Долги!$F$8:$F$17,0)),0) -> 180000 | T5: =IFERROR(INDEX(Долги!$B$8:$B$17,MATCH(3,Долги!$F$8:$F$17,0)),0) -> 250000 | U5: =IFERROR(INDEX(Долги!$B$8:$B$17,MATCH(4,Долги!$F$8:$F$17,0)),0) -> 0 | V5: =IFERROR(INDEX(Долги!$B$8:$B$17,MATCH(5,Долги!$F$8:$F$17,0)),0) -> 0 | W5: =IFERROR(INDEX(Долги!$B$8:$B$17,MATCH(6,Долги!$F$8:$F$17,0)),0) -> 0 | X5: =IFERROR(INDEX(Долги!$B$8:$B$17,MATCH(7,Долги!$F$8:$F$17,0)),0) -> 0 | Y5: =IFERROR(INDEX(Долги!$B$8:$B$17,MATCH(8,Долги!$F$8:$F$17,0)),0) -> 0 | Z5: =IFERROR(INDEX(Долги!$B$8:$B$17,MATCH(9,Долги!$F$8:$F$17,0)),0) -> 0 | AA5: =IFERROR(INDEX(Долги!$B$8:$B$17,MATCH(10,Долги!$F$8:$F$17,0)),0) -> 0 | AB5: =IFERROR(INDEX(Долги!$C$8:$C$17,MATCH(1,Долги!$F$8:$F$17,0)),0) -> 0 | AC5: =IFERROR(INDEX(Долги!$C$8:$C$17,MATCH(2,Долги!$F$8:$F$17,0)),0) -> 19 | AD5: =IFERROR(INDEX(Долги!$C$8:$C$17,MATCH(3,Долги!$F$8:$F$17,0)),0) -> 39.9 | AE5: =IFERROR(INDEX(Долги!$C$8:$C$17,MATCH(4,Долги!$F$8:$F$17,0)),0) -> 0 | AF5: =IFERROR(INDEX(Долги!$C$8:$C$17,MATCH(5,Долги!$F$8:$F$17,0)),0) -> 0 | AG5: =IFERROR(INDEX(Долги!$C$8:$C$17,MATCH(6,Долги!$F$8:$F$17,0)),0) -> 0 | AH5: =IFERROR(INDEX(Долги!$C$8:$C$17,MATCH(7,Долги!$F$8:$F$17,0)),0) -> 0 | AI5: =IFERROR(INDEX(Долги!$C$8:$C$17,MATCH(8,Долги!$F$8:$F$17,0)),0) -> 0 | AJ5: =IFERROR(INDEX(Долги!$C$8:$C$17,MATCH(9,Долги!$F$8:$F$17,0)),0) -> 0 | AK5: =IFERROR(INDEX(Долги!$C$8:$C$17,MATCH(10,Долги!$F$8:$F$17,0)),0) -> 0 | AL5: =IFERROR(INDEX(Долги!$D$8:$D$17,MATCH(1,Долги!$F$8:$F$17,0)),0) -> 4000 | AM5: =IFERROR(INDEX(Долги!$D$8:$D$17,MATCH(2,Долги!$F$8:$F$17,0)),0) -> 6500 | AN5: =IFERROR(INDEX(Долги!$D$8:$D$17,MATCH(3,Долги!$F$8:$F$17,0)),0) -> 12500 | AO5: =IFERROR(INDEX(Долги!$D$8:$D$17,MATCH(4,Долги!$F$8:$F$17,0)),0) -> 0 | AP5: =IFERROR(INDEX(Долги!$D$8:$D$17,MATCH(5,Долги!$F$8:$F$17,0)),0) -> 0 | AQ5: =IFERROR(INDEX(Долги!$D$8:$D$17,MATCH(6,Долги!$F$8:$F$17,0)),0) -> 0 | AR5: =IFERROR(INDEX(Долги!$D$8:$D$17,MATCH(7,Долги!$F$8:$F$17,0)),0) -> 0 | AS5: =IFERROR(INDEX(Долги!$D$8:$D$17,MATCH(8,Долги!$F$8:$F$17,0)),0) -> 0 | AT5: =IFERROR(INDEX(Долги!$D$8:$D$17,MATCH(9,Долги!$F$8:$F$17,0)),0) -> 0 | AU5: =IFERROR(INDEX(Долги!$D$8:$D$17,MATCH(10,Долги!$F$8:$F$17,0)),0) -> 0
A6: =IF(F5>0.005,1,"") -> 1 | B6: =IF(A6="","",EDATE(Долги!$D$5,0)) -> 46296 | C6: =SUM(H6:Q6) -> 31000 | D6: =SUM(AB6:AK6) -> 11162.5 | E6: =C6-D6 -> 19837.5 | F6: =SUM(R6:AA6) -> 450162.5 | G6: =IF(OR(A6="",$F$5<=0),"",REPT("█",ROUND(20*F6/$F$5,0))) -> ███████████████████ | H6: =AL6+MIN(R5+AB6-AL6,MAX(0,ROUND(Долги!$D$19-SUM($AL6:$AU6),2))) -> 12000 | I6: =AM6+MIN(S5+AC6-AM6,MAX(0,ROUND(ROUND(Долги!$D$19-SUM($AL6:$AU6),2)-(SUM($H6:H6)-SUM($AL6:AL6)),2))) -> 6500 | J6: =AN6+MIN(T5+AD6-AN6,MAX(0,ROUND(ROUND(Долги!$D$19-SUM($AL6:$AU6),2)-(SUM($H6:I6)-SUM($AL6:AM6)),2))) -> 12500 | K6: =AO6+MIN(U5+AE6-AO6,MAX(0,ROUND(ROUND(Долги!$D$19-SUM($AL6:$AU6),2)-(SUM($H6:J6)-SUM($AL6:AN6)),2))) -> 0 | L6: =AP6+MIN(V5+AF6-AP6,MAX(0,ROUND(ROUND(Долги!$D$19-SUM($AL6:$AU6),2)-(SUM($H6:K6)-SUM($AL6:AO6)),2))) -> 0 | M6: =AQ6+MIN(W5+AG6-AQ6,MAX(0,ROUND(ROUND(Долги!$D$19-SUM($AL6:$AU6),2)-(SUM($H6:L6)-SUM($AL6:AP6)),2))) -> 0 | N6: =AR6+MIN(X5+AH6-AR6,MAX(0,ROUND(ROUND(Долги!$D$19-SUM($AL6:$AU6),2)-(SUM($H6:M6)-SUM($AL6:AQ6)),2))) -> 0 | O6: =AS6+MIN(Y5+AI6-AS6,MAX(0,ROUND(ROUND(Долги!$D$19-SUM($AL6:$AU6),2)-(SUM($H6:N6)-SUM($AL6:AR6)),2))) -> 0 | P6: =AT6+MIN(Z5+AJ6-AT6,MAX(0,ROUND(ROUND(Долги!$D$19-SUM($AL6:$AU6),2)-(SUM($H6:O6)-SUM($AL6:AS6)),2))) -> 0 | Q6: =AU6+MIN(AA5+AK6-AU6,MAX(0,ROUND(ROUND(Долги!$D$19-SUM($AL6:$AU6),2)-(SUM($H6:P6)-SUM($AL6:AT6)),2))) -> 0 | R6: =IF(R5+AB6-H6<=0.01,0,ROUND(R5+AB6-H6,2)) -> 28000 | S6: =IF(S5+AC6-I6<=0.01,0,ROUND(S5+AC6-I6,2)) -> 176350 | T6: =IF(T5+AD6-J6<=0.01,0,ROUND(T5+AD6-J6,2)) -> 245812.5 | U6: =IF(U5+AE6-K6<=0.01,0,ROUND(U5+AE6-K6,2)) -> 0 | V6: =IF(V5+AF6-L6<=0.01,0,ROUND(V5+AF6-L6,2)) -> 0 | W6: =IF(W5+AG6-M6<=0.01,0,ROUND(W5+AG6-M6,2)) -> 0 | X6: =IF(X5+AH6-N6<=0.01,0,ROUND(X5+AH6-N6,2)) -> 0 | Y6: =IF(Y5+AI6-O6<=0.01,0,ROUND(Y5+AI6-O6,2)) -> 0 | ... AA6: =IF(AA5+AK6-Q6<=0.01,0,ROUND(AA5+AK6-Q6,2)) -> 0 | AB6: =ROUND(R5*AB$5/1200,2) -> 0 | AC6: =ROUND(S5*AC$5/1200,2) -> 2850 | AD6: =ROUND(T5*AD$5/1200,2) -> 8312.5 | AE6: =ROUND(U5*AE$5/1200,2) -> 0 | AF6: =ROUND(V5*AF$5/1200,2) -> 0 | AG6: =ROUND(W5*AG$5/1200,2) -> 0 | AH6: =ROUND(X5*AH$5/1200,2) -> 0 | AI6: =ROUND(Y5*AI$5/1200,2) -> 0 | ... AK6: =ROUND(AA5*AK$5/1200,2) -> 0 | AL6: =MIN(AL$5,R5+AB6) -> 4000 | AM6: =MIN(AM$5,S5+AC6) -> 6500 | AN6: =MIN(AN$5,T5+AD6) -> 12500 | AO6: =MIN(AO$5,U5+AE6) -> 0 | AP6: =MIN(AP$5,V5+AF6) -> 0 | AQ6: =MIN(AQ$5,W5+AG6) -> 0 | AR6: =MIN(AR$5,X5+AH6) -> 0 | AS6: =MIN(AS$5,Y5+AI6) -> 0 | ... AU6: =MIN(AU$5,AA5+AK6) -> 0
A7: =IF(F6>0.005,2,"") -> 2 | B7: =IF(A7="","",EDATE(Долги!$D$5,1)) -> 46327 | C7: =SUM(H7:Q7) -> 31000 | D7: =SUM(AB7:AK7) -> 10965.48 | E7: =C7-D7 -> 20034.52 | F7: =SUM(R7:AA7) -> 430127.98 | G7: =IF(OR(A7="",$F$5<=0),"",REPT("█",ROUND(20*F7/$F$5,0))) -> ██████████████████ | H7: =AL7+MIN(R6+AB7-AL7,MAX(0,ROUND(Долги!$D$19-SUM($AL7:$AU7),2))) -> 12000 | I7: =AM7+MIN(S6+AC7-AM7,MAX(0,ROUND(ROUND(Долги!$D$19-SUM($AL7:$AU7),2)-(SUM($H7:H7)-SUM($AL7:AL7)),2))) -> 6500 | J7: =AN7+MIN(T6+AD7-AN7,MAX(0,ROUND(ROUND(Долги!$D$19-SUM($AL7:$AU7),2)-(SUM($H7:I7)-SUM($AL7:AM7)),2))) -> 12500 | K7: =AO7+MIN(U6+AE7-AO7,MAX(0,ROUND(ROUND(Долги!$D$19-SUM($AL7:$AU7),2)-(SUM($H7:J7)-SUM($AL7:AN7)),2))) -> 0 | L7: =AP7+MIN(V6+AF7-AP7,MAX(0,ROUND(ROUND(Долги!$D$19-SUM($AL7:$AU7),2)-(SUM($H7:K7)-SUM($AL7:AO7)),2))) -> 0 | M7: =AQ7+MIN(W6+AG7-AQ7,MAX(0,ROUND(ROUND(Долги!$D$19-SUM($AL7:$AU7),2)-(SUM($H7:L7)-SUM($AL7:AP7)),2))) -> 0 | N7: =AR7+MIN(X6+AH7-AR7,MAX(0,ROUND(ROUND(Долги!$D$19-SUM($AL7:$AU7),2)-(SUM($H7:M7)-SUM($AL7:AQ7)),2))) -> 0 | O7: =AS7+MIN(Y6+AI7-AS7,MAX(0,ROUND(ROUND(Долги!$D$19-SUM($AL7:$AU7),2)-(SUM($H7:N7)-SUM($AL7:AR7)),2))) -> 0 | P7: =AT7+MIN(Z6+AJ7-AT7,MAX(0,ROUND(ROUND(Долги!$D$19-SUM($AL7:$AU7),2)-(SUM($H7:O7)-SUM($AL7:AS7)),2))) -> 0 | Q7: =AU7+MIN(AA6+AK7-AU7,MAX(0,ROUND(ROUND(Долги!$D$19-SUM($AL7:$AU7),2)-(SUM($H7:P7)-SUM($AL7:AT7)),2))) -> 0 | R7: =IF(R6+AB7-H7<=0.01,0,ROUND(R6+AB7-H7,2)) -> 16000 | S7: =IF(S6+AC7-I7<=0.01,0,ROUND(S6+AC7-I7,2)) -> 172642.21 | T7: =IF(T6+AD7-J7<=0.01,0,ROUND(T6+AD7-J7,2)) -> 241485.77 | U7: =IF(U6+AE7-K7<=0.01,0,ROUND(U6+AE7-K7,2)) -> 0 | V7: =IF(V6+AF7-L7<=0.01,0,ROUND(V6+AF7-L7,2)) -> 0 | W7: =IF(W6+AG7-M7<=0.01,0,ROUND(W6+AG7-M7,2)) -> 0 | X7: =IF(X6+AH7-N7<=0.01,0,ROUND(X6+AH7-N7,2)) -> 0 | Y7: =IF(Y6+AI7-O7<=0.01,0,ROUND(Y6+AI7-O7,2)) -> 0 | ... AA7: =IF(AA6+AK7-Q7<=0.01,0,ROUND(AA6+AK7-Q7,2)) -> 0 | AB7: =ROUND(R6*AB$5/1200,2) -> 0 | AC7: =ROUND(S6*AC$5/1200,2) -> 2792.21 | AD7: =ROUND(T6*AD$5/1200,2) -> 8173.27 | AE7: =ROUND(U6*AE$5/1200,2) -> 0 | AF7: =ROUND(V6*AF$5/1200,2) -> 0 | AG7: =ROUND(W6*AG$5/1200,2) -> 0 | AH7: =ROUND(X6*AH$5/1200,2) -> 0 | AI7: =ROUND(Y6*AI$5/1200,2) -> 0 | ... AK7: =ROUND(AA6*AK$5/1200,2) -> 0 | AL7: =MIN(AL$5,R6+AB7) -> 4000 | AM7: =MIN(AM$5,S6+AC7) -> 6500 | AN7: =MIN(AN$5,T6+AD7) -> 12500 | AO7: =MIN(AO$5,U6+AE7) -> 0 | AP7: =MIN(AP$5,V6+AF7) -> 0 | AQ7: =MIN(AQ$5,W6+AG7) -> 0 | AR7: =MIN(AR$5,X6+AH7) -> 0 | AS7: =MIN(AS$5,Y6+AI7) -> 0 | ... AU7: =MIN(AU$5,AA6+AK7) -> 0
A8: =IF(F7>0.005,3,"") -> 3 | B8: =IF(A8="","",EDATE(Долги!$D$5,2)) -> 46357 | C8: =SUM(H8:Q8) -> 31000 | D8: =SUM(AB8:AK8) -> 10762.9 | E8: =C8-D8 -> 20237.1 | F8: =SUM(R8:AA8) -> 409890.88 | G8: =IF(OR(A8="",$F$5<=0),"",REPT("█",ROUND(20*F8/$F$5,0))) -> █████████████████ | H8: =AL8+MIN(R7+AB8-AL8,MAX(0,ROUND(Долги!$D$19-SUM($AL8:$AU8),2))) -> 12000 | I8: =AM8+MIN(S7+AC8-AM8,MAX(0,ROUND(ROUND(Долги!$D$19-SUM($AL8:$AU8),2)-(SUM($H8:H8)-SUM($AL8:AL8)),2))) -> 6500 | J8: =AN8+MIN(T7+AD8-AN8,MAX(0,ROUND(ROUND(Долги!$D$19-SUM($AL8:$AU8),2)-(SUM($H8:I8)-SUM($AL8:AM8)),2))) -> 12500 | K8: =AO8+MIN(U7+AE8-AO8,MAX(0,ROUND(ROUND(Долги!$D$19-SUM($AL8:$AU8),2)-(SUM($H8:J8)-SUM($AL8:AN8)),2))) -> 0 | L8: =AP8+MIN(V7+AF8-AP8,MAX(0,ROUND(ROUND(Долги!$D$19-SUM($AL8:$AU8),2)-(SUM($H8:K8)-SUM($AL8:AO8)),2))) -> 0 | M8: =AQ8+MIN(W7+AG8-AQ8,MAX(0,ROUND(ROUND(Долги!$D$19-SUM($AL8:$AU8),2)-(SUM($H8:L8)-SUM($AL8:AP8)),2))) -> 0 | N8: =AR8+MIN(X7+AH8-AR8,MAX(0,ROUND(ROUND(Долги!$D$19-SUM($AL8:$AU8),2)-(SUM($H8:M8)-SUM($AL8:AQ8)),2))) -> 0 | O8: =AS8+MIN(Y7+AI8-AS8,MAX(0,ROUND(ROUND(Долги!$D$19-SUM($AL8:$AU8),2)-(SUM($H8:N8)-SUM($AL8:AR8)),2))) -> 0 | P8: =AT8+MIN(Z7+AJ8-AT8,MAX(0,ROUND(ROUND(Долги!$D$19-SUM($AL8:$AU8),2)-(SUM($H8:O8)-SUM($AL8:AS8)),2))) -> 0 | Q8: =AU8+MIN(AA7+AK8-AU8,MAX(0,ROUND(ROUND(Долги!$D$19-SUM($AL8:$AU8),2)-(SUM($H8:P8)-SUM($AL8:AT8)),2))) -> 0 | R8: =IF(R7+AB8-H8<=0.01,0,ROUND(R7+AB8-H8,2)) -> 4000 | S8: =IF(S7+AC8-I8<=0.01,0,ROUND(S7+AC8-I8,2)) -> 168875.71 | T8: =IF(T7+AD8-J8<=0.01,0,ROUND(T7+AD8-J8,2)) -> 237015.17 | U8: =IF(U7+AE8-K8<=0.01,0,ROUND(U7+AE8-K8,2)) -> 0 | V8: =IF(V7+AF8-L8<=0.01,0,ROUND(V7+AF8-L8,2)) -> 0 | W8: =IF(W7+AG8-M8<=0.01,0,ROUND(W7+AG8-M8,2)) -> 0 | X8: =IF(X7+AH8-N8<=0.01,0,ROUND(X7+AH8-N8,2)) -> 0 | Y8: =IF(Y7+AI8-O8<=0.01,0,ROUND(Y7+AI8-O8,2)) -> 0 | ... AA8: =IF(AA7+AK8-Q8<=0.01,0,ROUND(AA7+AK8-Q8,2)) -> 0 | AB8: =ROUND(R7*AB$5/1200,2) -> 0 | AC8: =ROUND(S7*AC$5/1200,2) -> 2733.5 | AD8: =ROUND(T7*AD$5/1200,2) -> 8029.4 | AE8: =ROUND(U7*AE$5/1200,2) -> 0 | AF8: =ROUND(V7*AF$5/1200,2) -> 0 | AG8: =ROUND(W7*AG$5/1200,2) -> 0 | AH8: =ROUND(X7*AH$5/1200,2) -> 0 | AI8: =ROUND(Y7*AI$5/1200,2) -> 0 | ... AK8: =ROUND(AA7*AK$5/1200,2) -> 0 | AL8: =MIN(AL$5,R7+AB8) -> 4000 | AM8: =MIN(AM$5,S7+AC8) -> 6500 | AN8: =MIN(AN$5,T7+AD8) -> 12500 | AO8: =MIN(AO$5,U7+AE8) -> 0 | AP8: =MIN(AP$5,V7+AF8) -> 0 | AQ8: =MIN(AQ$5,W7+AG8) -> 0 | AR8: =MIN(AR$5,X7+AH8) -> 0 | AS8: =MIN(AS$5,Y7+AI8) -> 0 | ... AU8: =MIN(AU$5,AA7+AK8) -> 0
A9: =IF(F8>0.005,4,"") -> 4 | B9: =IF(A9="","",EDATE(Долги!$D$5,3)) -> 46388 | C9: =SUM(H9:Q9) -> 31000 | D9: =SUM(AB9:AK9) -> 10554.62 | E9: =C9-D9 -> 20445.38 | F9: =SUM(R9:AA9) -> 389445.5 | G9: =IF(OR(A9="",$F$5<=0),"",REPT("█",ROUND(20*F9/$F$5,0))) -> █████████████████ | H9: =AL9+MIN(R8+AB9-AL9,MAX(0,ROUND(Долги!$D$19-SUM($AL9:$AU9),2))) -> 4000 | I9: =AM9+MIN(S8+AC9-AM9,MAX(0,ROUND(ROUND(Долги!$D$19-SUM($AL9:$AU9),2)-(SUM($H9:H9)-SUM($AL9:AL9)),2))) -> 14500 | J9: =AN9+MIN(T8+AD9-AN9,MAX(0,ROUND(ROUND(Долги!$D$19-SUM($AL9:$AU9),2)-(SUM($H9:I9)-SUM($AL9:AM9)),2))) -> 12500 | K9: =AO9+MIN(U8+AE9-AO9,MAX(0,ROUND(ROUND(Долги!$D$19-SUM($AL9:$AU9),2)-(SUM($H9:J9)-SUM($AL9:AN9)),2))) -> 0 | L9: =AP9+MIN(V8+AF9-AP9,MAX(0,ROUND(ROUND(Долги!$D$19-SUM($AL9:$AU9),2)-(SUM($H9:K9)-SUM($AL9:AO9)),2))) -> 0 | M9: =AQ9+MIN(W8+AG9-AQ9,MAX(0,ROUND(ROUND(Долги!$D$19-SUM($AL9:$AU9),2)-(SUM($H9:L9)-SUM($AL9:AP9)),2))) -> 0 | N9: =AR9+MIN(X8+AH9-AR9,MAX(0,ROUND(ROUND(Долги!$D$19-SUM($AL9:$AU9),2)-(SUM($H9:M9)-SUM($AL9:AQ9)),2))) -> 0 | O9: =AS9+MIN(Y8+AI9-AS9,MAX(0,ROUND(ROUND(Долги!$D$19-SUM($AL9:$AU9),2)-(SUM($H9:N9)-SUM($AL9:AR9)),2))) -> 0 | P9: =AT9+MIN(Z8+AJ9-AT9,MAX(0,ROUND(ROUND(Долги!$D$19-SUM($AL9:$AU9),2)-(SUM($H9:O9)-SUM($AL9:AS9)),2))) -> 0 | Q9: =AU9+MIN(AA8+AK9-AU9,MAX(0,ROUND(ROUND(Долги!$D$19-SUM($AL9:$AU9),2)-(SUM($H9:P9)-SUM($AL9:AT9)),2))) -> 0 | R9: =IF(R8+AB9-H9<=0.01,0,ROUND(R8+AB9-H9,2)) -> 0 | S9: =IF(S8+AC9-I9<=0.01,0,ROUND(S8+AC9-I9,2)) -> 157049.58 | T9: =IF(T8+AD9-J9<=0.01,0,ROUND(T8+AD9-J9,2)) -> 232395.92 | U9: =IF(U8+AE9-K9<=0.01,0,ROUND(U8+AE9-K9,2)) -> 0 | V9: =IF(V8+AF9-L9<=0.01,0,ROUND(V8+AF9-L9,2)) -> 0 | W9: =IF(W8+AG9-M9<=0.01,0,ROUND(W8+AG9-M9,2)) -> 0 | X9: =IF(X8+AH9-N9<=0.01,0,ROUND(X8+AH9-N9,2)) -> 0 | Y9: =IF(Y8+AI9-O9<=0.01,0,ROUND(Y8+AI9-O9,2)) -> 0 | ... AA9: =IF(AA8+AK9-Q9<=0.01,0,ROUND(AA8+AK9-Q9,2)) -> 0 | AB9: =ROUND(R8*AB$5/1200,2) -> 0 | AC9: =ROUND(S8*AC$5/1200,2) -> 2673.87 | AD9: =ROUND(T8*AD$5/1200,2) -> 7880.75 | AE9: =ROUND(U8*AE$5/1200,2) -> 0 | AF9: =ROUND(V8*AF$5/1200,2) -> 0 | AG9: =ROUND(W8*AG$5/1200,2) -> 0 | AH9: =ROUND(X8*AH$5/1200,2) -> 0 | AI9: =ROUND(Y8*AI$5/1200,2) -> 0 | ... AK9: =ROUND(AA8*AK$5/1200,2) -> 0 | AL9: =MIN(AL$5,R8+AB9) -> 4000 | AM9: =MIN(AM$5,S8+AC9) -> 6500 | AN9: =MIN(AN$5,T8+AD9) -> 12500 | AO9: =MIN(AO$5,U8+AE9) -> 0 | AP9: =MIN(AP$5,V8+AF9) -> 0 | AQ9: =MIN(AQ$5,W8+AG9) -> 0 | AR9: =MIN(AR$5,X8+AH9) -> 0 | AS9: =MIN(AS$5,Y8+AI9) -> 0 | ... AU9: =MIN(AU$5,AA8+AK9) -> 0
A10: =IF(F9>0.005,5,"") -> 5 | B10: =IF(A10="","",EDATE(Долги!$D$5,4)) -> 46419 | C10: =SUM(H10:Q10) -> 31000 | D10: =SUM(AB10:AK10) -> 10213.78 | E10: =C10-D10 -> 20786.22 | F10: =SUM(R10:AA10) -> 368659.28 | G10: =IF(OR(A10="",$F$5<=0),"",REPT("█",ROUND(20*F10/$F$5,0))) -> ████████████████ | H10: =AL10+MIN(R9+AB10-AL10,MAX(0,ROUND(Долги!$D$19-SUM($AL10:$AU10),2))) -> 0 | I10: =AM10+MIN(S9+AC10-AM10,MAX(0,ROUND(ROUND(Долги!$D$19-SUM($AL10:$AU10),2)-(SUM($H10:H10)-SUM($AL10:AL10)),2))) -> 18500 | J10: =AN10+MIN(T9+AD10-AN10,MAX(0,ROUND(ROUND(Долги!$D$19-SUM($AL10:$AU10),2)-(SUM($H10:I10)-SUM($AL10:AM10)),2))) -> 12500 | K10: =AO10+MIN(U9+AE10-AO10,MAX(0,ROUND(ROUND(Долги!$D$19-SUM($AL10:$AU10),2)-(SUM($H10:J10)-SUM($AL10:AN10)),2))) -> 0 | L10: =AP10+MIN(V9+AF10-AP10,MAX(0,ROUND(ROUND(Долги!$D$19-SUM($AL10:$AU10),2)-(SUM($H10:K10)-SUM($AL10:AO10)),2))) -> 0 | M10: =AQ10+MIN(W9+AG10-AQ10,MAX(0,ROUND(ROUND(Долги!$D$19-SUM($AL10:$AU10),2)-(SUM($H10:L10)-SUM($AL10:AP10)),2))) -> 0 | N10: =AR10+MIN(X9+AH10-AR10,MAX(0,ROUND(ROUND(Долги!$D$19-SUM($AL10:$AU10),2)-(SUM($H10:M10)-SUM($AL10:AQ10)),2))) -> 0 | O10: =AS10+MIN(Y9+AI10-AS10,MAX(0,ROUND(ROUND(Долги!$D$19-SUM($AL10:$AU10),2)-(SUM($H10:N10)-SUM($AL10:AR10)),2))) -> 0 | P10: =AT10+MIN(Z9+AJ10-AT10,MAX(0,ROUND(ROUND(Долги!$D$19-SUM($AL10:$AU10),2)-(SUM($H10:O10)-SUM($AL10:AS10)),2))) -> 0 | Q10: =AU10+MIN(AA9+AK10-AU10,MAX(0,ROUND(ROUND(Долги!$D$19-SUM($AL10:$AU10),2)-(SUM($H10:P10)-SUM($AL10:AT10)),2))) -> 0 | R10: =IF(R9+AB10-H10<=0.01,0,ROUND(R9+AB10-H10,2)) -> 0 | S10: =IF(S9+AC10-I10<=0.01,0,ROUND(S9+AC10-I10,2)) -> 141036.2 | T10: =IF(T9+AD10-J10<=0.01,0,ROUND(T9+AD10-J10,2)) -> 227623.08 | U10: =IF(U9+AE10-K10<=0.01,0,ROUND(U9+AE10-K10,2)) -> 0 | V10: =IF(V9+AF10-L10<=0.01,0,ROUND(V9+AF10-L10,2)) -> 0 | W10: =IF(W9+AG10-M10<=0.01,0,ROUND(W9+AG10-M10,2)) -> 0 | X10: =IF(X9+AH10-N10<=0.01,0,ROUND(X9+AH10-N10,2)) -> 0 | Y10: =IF(Y9+AI10-O10<=0.01,0,ROUND(Y9+AI10-O10,2)) -> 0 | ... AA10: =IF(AA9+AK10-Q10<=0.01,0,ROUND(AA9+AK10-Q10,2)) -> 0 | AB10: =ROUND(R9*AB$5/1200,2) -> 0 | AC10: =ROUND(S9*AC$5/1200,2) -> 2486.62 | AD10: =ROUND(T9*AD$5/1200,2) -> 7727.16 | AE10: =ROUND(U9*AE$5/1200,2) -> 0 | AF10: =ROUND(V9*AF$5/1200,2) -> 0 | AG10: =ROUND(W9*AG$5/1200,2) -> 0 | AH10: =ROUND(X9*AH$5/1200,2) -> 0 | AI10: =ROUND(Y9*AI$5/1200,2) -> 0 | ... AK10: =ROUND(AA9*AK$5/1200,2) -> 0 | AL10: =MIN(AL$5,R9+AB10) -> 0 | AM10: =MIN(AM$5,S9+AC10) -> 6500 | AN10: =MIN(AN$5,T9+AD10) -> 12500 | AO10: =MIN(AO$5,U9+AE10) -> 0 | AP10: =MIN(AP$5,V9+AF10) -> 0 | AQ10: =MIN(AQ$5,W9+AG10) -> 0 | AR10: =MIN(AR$5,X9+AH10) -> 0 | AS10: =MIN(AS$5,Y9+AI10) -> 0 | ... AU10: =MIN(AU$5,AA9+AK10) -> 0
A11: =IF(F10>0.005,6,"") -> 6 | B11: =IF(A11="","",EDATE(Долги!$D$5,5)) -> 46447 | C11: =SUM(H11:Q11) -> 31000 | D11: =SUM(AB11:AK11) -> 9801.54 | E11: =C11-D11 -> 21198.46 | F11: =SUM(R11:AA11) -> 347460.82 | G11: =IF(OR(A11="",$F$5<=0),"",REPT("█",ROUND(20*F11/$F$5,0))) -> ███████████████ | H11: =AL11+MIN(R10+AB11-AL11,MAX(0,ROUND(Долги!$D$19-SUM($AL11:$AU11),2))) -> 0 | I11: =AM11+MIN(S10+AC11-AM11,MAX(0,ROUND(ROUND(Долги!$D$19-SUM($AL11:$AU11),2)-(SUM($H11:H11)-SUM($AL11:AL11)),2))) -> 18500 | J11: =AN11+MIN(T10+AD11-AN11,MAX(0,ROUND(ROUND(Долги!$D$19-SUM($AL11:$AU11),2)-(SUM($H11:I11)-SUM($AL11:AM11)),2))) -> 12500 | K11: =AO11+MIN(U10+AE11-AO11,MAX(0,ROUND(ROUND(Долги!$D$19-SUM($AL11:$AU11),2)-(SUM($H11:J11)-SUM($AL11:AN11)),2))) -> 0 | L11: =AP11+MIN(V10+AF11-AP11,MAX(0,ROUND(ROUND(Долги!$D$19-SUM($AL11:$AU11),2)-(SUM($H11:K11)-SUM($AL11:AO11)),2))) -> 0 | M11: =AQ11+MIN(W10+AG11-AQ11,MAX(0,ROUND(ROUND(Долги!$D$19-SUM($AL11:$AU11),2)-(SUM($H11:L11)-SUM($AL11:AP11)),2))) -> 0 | N11: =AR11+MIN(X10+AH11-AR11,MAX(0,ROUND(ROUND(Долги!$D$19-SUM($AL11:$AU11),2)-(SUM($H11:M11)-SUM($AL11:AQ11)),2))) -> 0 | O11: =AS11+MIN(Y10+AI11-AS11,MAX(0,ROUND(ROUND(Долги!$D$19-SUM($AL11:$AU11),2)-(SUM($H11:N11)-SUM($AL11:AR11)),2))) -> 0 | P11: =AT11+MIN(Z10+AJ11-AT11,MAX(0,ROUND(ROUND(Долги!$D$19-SUM($AL11:$AU11),2)-(SUM($H11:O11)-SUM($AL11:AS11)),2))) -> 0 | Q11: =AU11+MIN(AA10+AK11-AU11,MAX(0,ROUND(ROUND(Долги!$D$19-SUM($AL11:$AU11),2)-(SUM($H11:P11)-SUM($AL11:AT11)),2))) -> 0 | R11: =IF(R10+AB11-H11<=0.01,0,ROUND(R10+AB11-H11,2)) -> 0 | S11: =IF(S10+AC11-I11<=0.01,0,ROUND(S10+AC11-I11,2)) -> 124769.27 | T11: =IF(T10+AD11-J11<=0.01,0,ROUND(T10+AD11-J11,2)) -> 222691.55 | U11: =IF(U10+AE11-K11<=0.01,0,ROUND(U10+AE11-K11,2)) -> 0 | V11: =IF(V10+AF11-L11<=0.01,0,ROUND(V10+AF11-L11,2)) -> 0 | W11: =IF(W10+AG11-M11<=0.01,0,ROUND(W10+AG11-M11,2)) -> 0 | X11: =IF(X10+AH11-N11<=0.01,0,ROUND(X10+AH11-N11,2)) -> 0 | Y11: =IF(Y10+AI11-O11<=0.01,0,ROUND(Y10+AI11-O11,2)) -> 0 | ... AA11: =IF(AA10+AK11-Q11<=0.01,0,ROUND(AA10+AK11-Q11,2)) -> 0 | AB11: =ROUND(R10*AB$5/1200,2) -> 0 | AC11: =ROUND(S10*AC$5/1200,2) -> 2233.07 | AD11: =ROUND(T10*AD$5/1200,2) -> 7568.47 | AE11: =ROUND(U10*AE$5/1200,2) -> 0 | AF11: =ROUND(V10*AF$5/1200,2) -> 0 | AG11: =ROUND(W10*AG$5/1200,2) -> 0 | AH11: =ROUND(X10*AH$5/1200,2) -> 0 | AI11: =ROUND(Y10*AI$5/1200,2) -> 0 | ... AK11: =ROUND(AA10*AK$5/1200,2) -> 0 | AL11: =MIN(AL$5,R10+AB11) -> 0 | AM11: =MIN(AM$5,S10+AC11) -> 6500 | AN11: =MIN(AN$5,T10+AD11) -> 12500 | AO11: =MIN(AO$5,U10+AE11) -> 0 | AP11: =MIN(AP$5,V10+AF11) -> 0 | AQ11: =MIN(AQ$5,W10+AG11) -> 0 | AR11: =MIN(AR$5,X10+AH11) -> 0 | AS11: =MIN(AS$5,Y10+AI11) -> 0 | ... AU11: =MIN(AU$5,AA10+AK11) -> 0
A12: =IF(F11>0.005,7,"") -> 7 | B12: =IF(A12="","",EDATE(Долги!$D$5,6)) -> 46478 | C12: =SUM(H12:Q12) -> 31000 | D12: =SUM(AB12:AK12) -> 9380 | E12: =C12-D12 -> 21620 | F12: =SUM(R12:AA12) -> 325840.82 | G12: =IF(OR(A12="",$F$5<=0),"",REPT("█",ROUND(20*F12/$F$5,0))) -> ██████████████ | H12: =AL12+MIN(R11+AB12-AL12,MAX(0,ROUND(Долги!$D$19-SUM($AL12:$AU12),2))) -> 0 | I12: =AM12+MIN(S11+AC12-AM12,MAX(0,ROUND(ROUND(Долги!$D$19-SUM($AL12:$AU12),2)-(SUM($H12:H12)-SUM($AL12:AL12)),2))) -> 18500 | J12: =AN12+MIN(T11+AD12-AN12,MAX(0,ROUND(ROUND(Долги!$D$19-SUM($AL12:$AU12),2)-(SUM($H12:I12)-SUM($AL12:AM12)),2))) -> 12500 | K12: =AO12+MIN(U11+AE12-AO12,MAX(0,ROUND(ROUND(Долги!$D$19-SUM($AL12:$AU12),2)-(SUM($H12:J12)-SUM($AL12:AN12)),2))) -> 0 | L12: =AP12+MIN(V11+AF12-AP12,MAX(0,ROUND(ROUND(Долги!$D$19-SUM($AL12:$AU12),2)-(SUM($H12:K12)-SUM($AL12:AO12)),2))) -> 0 | M12: =AQ12+MIN(W11+AG12-AQ12,MAX(0,ROUND(ROUND(Долги!$D$19-SUM($AL12:$AU12),2)-(SUM($H12:L12)-SUM($AL12:AP12)),2))) -> 0 | N12: =AR12+MIN(X11+AH12-AR12,MAX(0,ROUND(ROUND(Долги!$D$19-SUM($AL12:$AU12),2)-(SUM($H12:M12)-SUM($AL12:AQ12)),2))) -> 0 | O12: =AS12+MIN(Y11+AI12-AS12,MAX(0,ROUND(ROUND(Долги!$D$19-SUM($AL12:$AU12),2)-(SUM($H12:N12)-SUM($AL12:AR12)),2))) -> 0 | P12: =AT12+MIN(Z11+AJ12-AT12,MAX(0,ROUND(ROUND(Долги!$D$19-SUM($AL12:$AU12),2)-(SUM($H12:O12)-SUM($AL12:AS12)),2))) -> 0 | Q12: =AU12+MIN(AA11+AK12-AU12,MAX(0,ROUND(ROUND(Долги!$D$19-SUM($AL12:$AU12),2)-(SUM($H12:P12)-SUM($AL12:AT12)),2))) -> 0 | R12: =IF(R11+AB12-H12<=0.01,0,ROUND(R11+AB12-H12,2)) -> 0 | S12: =IF(S11+AC12-I12<=0.01,0,ROUND(S11+AC12-I12,2)) -> 108244.78 | T12: =IF(T11+AD12-J12<=0.01,0,ROUND(T11+AD12-J12,2)) -> 217596.04 | U12: =IF(U11+AE12-K12<=0.01,0,ROUND(U11+AE12-K12,2)) -> 0 | V12: =IF(V11+AF12-L12<=0.01,0,ROUND(V11+AF12-L12,2)) -> 0 | W12: =IF(W11+AG12-M12<=0.01,0,ROUND(W11+AG12-M12,2)) -> 0 | X12: =IF(X11+AH12-N12<=0.01,0,ROUND(X11+AH12-N12,2)) -> 0 | Y12: =IF(Y11+AI12-O12<=0.01,0,ROUND(Y11+AI12-O12,2)) -> 0 | ... AA12: =IF(AA11+AK12-Q12<=0.01,0,ROUND(AA11+AK12-Q12,2)) -> 0 | AB12: =ROUND(R11*AB$5/1200,2) -> 0 | AC12: =ROUND(S11*AC$5/1200,2) -> 1975.51 | AD12: =ROUND(T11*AD$5/1200,2) -> 7404.49 | AE12: =ROUND(U11*AE$5/1200,2) -> 0 | AF12: =ROUND(V11*AF$5/1200,2) -> 0 | AG12: =ROUND(W11*AG$5/1200,2) -> 0 | AH12: =ROUND(X11*AH$5/1200,2) -> 0 | AI12: =ROUND(Y11*AI$5/1200,2) -> 0 | ... AK12: =ROUND(AA11*AK$5/1200,2) -> 0 | AL12: =MIN(AL$5,R11+AB12) -> 0 | AM12: =MIN(AM$5,S11+AC12) -> 6500 | AN12: =MIN(AN$5,T11+AD12) -> 12500 | AO12: =MIN(AO$5,U11+AE12) -> 0 | AP12: =MIN(AP$5,V11+AF12) -> 0 | AQ12: =MIN(AQ$5,W11+AG12) -> 0 | AR12: =MIN(AR$5,X11+AH12) -> 0 | AS12: =MIN(AS$5,Y11+AI12) -> 0 | ... AU12: =MIN(AU$5,AA11+AK12) -> 0
A13: =IF(F12>0.005,8,"") -> 8 | B13: =IF(A13="","",EDATE(Долги!$D$5,7)) -> 46508 | C13: =SUM(H13:Q13) -> 31000 | D13: =SUM(AB13:AK13) -> 8948.95 | E13: =C13-D13 -> 22051.05 | F13: =SUM(R13:AA13) -> 303789.77 | G13: =IF(OR(A13="",$F$5<=0),"",REPT("█",ROUND(20*F13/$F$5,0))) -> █████████████ | H13: =AL13+MIN(R12+AB13-AL13,MAX(0,ROUND(Долги!$D$19-SUM($AL13:$AU13),2))) -> 0 | I13: =AM13+MIN(S12+AC13-AM13,MAX(0,ROUND(ROUND(Долги!$D$19-SUM($AL13:$AU13),2)-(SUM($H13:H13)-SUM($AL13:AL13)),2))) -> 18500 | J13: =AN13+MIN(T12+AD13-AN13,MAX(0,ROUND(ROUND(Долги!$D$19-SUM($AL13:$AU13),2)-(SUM($H13:I13)-SUM($AL13:AM13)),2))) -> 12500 | K13: =AO13+MIN(U12+AE13-AO13,MAX(0,ROUND(ROUND(Долги!$D$19-SUM($AL13:$AU13),2)-(SUM($H13:J13)-SUM($AL13:AN13)),2))) -> 0 | L13: =AP13+MIN(V12+AF13-AP13,MAX(0,ROUND(ROUND(Долги!$D$19-SUM($AL13:$AU13),2)-(SUM($H13:K13)-SUM($AL13:AO13)),2))) -> 0 | M13: =AQ13+MIN(W12+AG13-AQ13,MAX(0,ROUND(ROUND(Долги!$D$19-SUM($AL13:$AU13),2)-(SUM($H13:L13)-SUM($AL13:AP13)),2))) -> 0 | N13: =AR13+MIN(X12+AH13-AR13,MAX(0,ROUND(ROUND(Долги!$D$19-SUM($AL13:$AU13),2)-(SUM($H13:M13)-SUM($AL13:AQ13)),2))) -> 0 | O13: =AS13+MIN(Y12+AI13-AS13,MAX(0,ROUND(ROUND(Долги!$D$19-SUM($AL13:$AU13),2)-(SUM($H13:N13)-SUM($AL13:AR13)),2))) -> 0 | P13: =AT13+MIN(Z12+AJ13-AT13,MAX(0,ROUND(ROUND(Долги!$D$19-SUM($AL13:$AU13),2)-(SUM($H13:O13)-SUM($AL13:AS13)),2))) -> 0 | Q13: =AU13+MIN(AA12+AK13-AU13,MAX(0,ROUND(ROUND(Долги!$D$19-SUM($AL13:$AU13),2)-(SUM($H13:P13)-SUM($AL13:AT13)),2))) -> 0 | R13: =IF(R12+AB13-H13<=0.01,0,ROUND(R12+AB13-H13,2)) -> 0 | S13: =IF(S12+AC13-I13<=0.01,0,ROUND(S12+AC13-I13,2)) -> 91458.66 | T13: =IF(T12+AD13-J13<=0.01,0,ROUND(T12+AD13-J13,2)) -> 212331.11 | U13: =IF(U12+AE13-K13<=0.01,0,ROUND(U12+AE13-K13,2)) -> 0 | V13: =IF(V12+AF13-L13<=0.01,0,ROUND(V12+AF13-L13,2)) -> 0 | W13: =IF(W12+AG13-M13<=0.01,0,ROUND(W12+AG13-M13,2)) -> 0 | X13: =IF(X12+AH13-N13<=0.01,0,ROUND(X12+AH13-N13,2)) -> 0 | Y13: =IF(Y12+AI13-O13<=0.01,0,ROUND(Y12+AI13-O13,2)) -> 0 | ... AA13: =IF(AA12+AK13-Q13<=0.01,0,ROUND(AA12+AK13-Q13,2)) -> 0 | AB13: =ROUND(R12*AB$5/1200,2) -> 0 | AC13: =ROUND(S12*AC$5/1200,2) -> 1713.88 | AD13: =ROUND(T12*AD$5/1200,2) -> 7235.07 | AE13: =ROUND(U12*AE$5/1200,2) -> 0 | AF13: =ROUND(V12*AF$5/1200,2) -> 0 | AG13: =ROUND(W12*AG$5/1200,2) -> 0 | AH13: =ROUND(X12*AH$5/1200,2) -> 0 | AI13: =ROUND(Y12*AI$5/1200,2) -> 0 | ... AK13: =ROUND(AA12*AK$5/1200,2) -> 0 | AL13: =MIN(AL$5,R12+AB13) -> 0 | AM13: =MIN(AM$5,S12+AC13) -> 6500 | AN13: =MIN(AN$5,T12+AD13) -> 12500 | AO13: =MIN(AO$5,U12+AE13) -> 0 | AP13: =MIN(AP$5,V12+AF13) -> 0 | AQ13: =MIN(AQ$5,W12+AG13) -> 0 | AR13: =MIN(AR$5,X12+AH13) -> 0 | AS13: =MIN(AS$5,Y12+AI13) -> 0 | ... AU13: =MIN(AU$5,AA12+AK13) -> 0
A14: =IF(F13>0.005,9,"") -> 9 | B14: =IF(A14="","",EDATE(Долги!$D$5,8)) -> 46539 | C14: =SUM(H14:Q14) -> 31000 | D14: =SUM(AB14:AK14) -> 8508.11 | E14: =C14-D14 -> 22491.89 | F14: =SUM(R14:AA14) -> 281297.88 | G14: =IF(OR(A14="",$F$5<=0),"",REPT("█",ROUND(20*F14/$F$5,0))) -> ████████████ | H14: =AL14+MIN(R13+AB14-AL14,MAX(0,ROUND(Долги!$D$19-SUM($AL14:$AU14),2))) -> 0 | I14: =AM14+MIN(S13+AC14-AM14,MAX(0,ROUND(ROUND(Долги!$D$19-SUM($AL14:$AU14),2)-(SUM($H14:H14)-SUM($AL14:AL14)),2))) -> 18500 | J14: =AN14+MIN(T13+AD14-AN14,MAX(0,ROUND(ROUND(Долги!$D$19-SUM($AL14:$AU14),2)-(SUM($H14:I14)-SUM($AL14:AM14)),2))) -> 12500 | K14: =AO14+MIN(U13+AE14-AO14,MAX(0,ROUND(ROUND(Долги!$D$19-SUM($AL14:$AU14),2)-(SUM($H14:J14)-SUM($AL14:AN14)),2))) -> 0 | L14: =AP14+MIN(V13+AF14-AP14,MAX(0,ROUND(ROUND(Долги!$D$19-SUM($AL14:$AU14),2)-(SUM($H14:K14)-SUM($AL14:AO14)),2))) -> 0 | M14: =AQ14+MIN(W13+AG14-AQ14,MAX(0,ROUND(ROUND(Долги!$D$19-SUM($AL14:$AU14),2)-(SUM($H14:L14)-SUM($AL14:AP14)),2))) -> 0 | N14: =AR14+MIN(X13+AH14-AR14,MAX(0,ROUND(ROUND(Долги!$D$19-SUM($AL14:$AU14),2)-(SUM($H14:M14)-SUM($AL14:AQ14)),2))) -> 0 | O14: =AS14+MIN(Y13+AI14-AS14,MAX(0,ROUND(ROUND(Долги!$D$19-SUM($AL14:$AU14),2)-(SUM($H14:N14)-SUM($AL14:AR14)),2))) -> 0 | P14: =AT14+MIN(Z13+AJ14-AT14,MAX(0,ROUND(ROUND(Долги!$D$19-SUM($AL14:$AU14),2)-(SUM($H14:O14)-SUM($AL14:AS14)),2))) -> 0 | Q14: =AU14+MIN(AA13+AK14-AU14,MAX(0,ROUND(ROUND(Долги!$D$19-SUM($AL14:$AU14),2)-(SUM($H14:P14)-SUM($AL14:AT14)),2))) -> 0 | R14: =IF(R13+AB14-H14<=0.01,0,ROUND(R13+AB14-H14,2)) -> 0 | S14: =IF(S13+AC14-I14<=0.01,0,ROUND(S13+AC14-I14,2)) -> 74406.76 | T14: =IF(T13+AD14-J14<=0.01,0,ROUND(T13+AD14-J14,2)) -> 206891.12 | U14: =IF(U13+AE14-K14<=0.01,0,ROUND(U13+AE14-K14,2)) -> 0 | V14: =IF(V13+AF14-L14<=0.01,0,ROUND(V13+AF14-L14,2)) -> 0 | W14: =IF(W13+AG14-M14<=0.01,0,ROUND(W13+AG14-M14,2)) -> 0 | X14: =IF(X13+AH14-N14<=0.01,0,ROUND(X13+AH14-N14,2)) -> 0 | Y14: =IF(Y13+AI14-O14<=0.01,0,ROUND(Y13+AI14-O14,2)) -> 0 | ... AA14: =IF(AA13+AK14-Q14<=0.01,0,ROUND(AA13+AK14-Q14,2)) -> 0 | AB14: =ROUND(R13*AB$5/1200,2) -> 0 | AC14: =ROUND(S13*AC$5/1200,2) -> 1448.1 | AD14: =ROUND(T13*AD$5/1200,2) -> 7060.01 | AE14: =ROUND(U13*AE$5/1200,2) -> 0 | AF14: =ROUND(V13*AF$5/1200,2) -> 0 | AG14: =ROUND(W13*AG$5/1200,2) -> 0 | AH14: =ROUND(X13*AH$5/1200,2) -> 0 | AI14: =ROUND(Y13*AI$5/1200,2) -> 0 | ... AK14: =ROUND(AA13*AK$5/1200,2) -> 0 | AL14: =MIN(AL$5,R13+AB14) -> 0 | AM14: =MIN(AM$5,S13+AC14) -> 6500 | AN14: =MIN(AN$5,T13+AD14) -> 12500 | AO14: =MIN(AO$5,U13+AE14) -> 0 | AP14: =MIN(AP$5,V13+AF14) -> 0 | AQ14: =MIN(AQ$5,W13+AG14) -> 0 | AR14: =MIN(AR$5,X13+AH14) -> 0 | AS14: =MIN(AS$5,Y13+AI14) -> 0 | ... AU14: =MIN(AU$5,AA13+AK14) -> 0
A15: =IF(F14>0.005,10,"") -> 10 | B15: =IF(A15="","",EDATE(Долги!$D$5,9)) -> 46569 | C15: =SUM(H15:Q15) -> 31000 | D15: =SUM(AB15:AK15) -> 8057.24 | E15: =C15-D15 -> 22942.76 | F15: =SUM(R15:AA15) -> 258355.12 | G15: =IF(OR(A15="",$F$5<=0),"",REPT("█",ROUND(20*F15/$F$5,0))) -> ███████████ | H15: =AL15+MIN(R14+AB15-AL15,MAX(0,ROUND(Долги!$D$19-SUM($AL15:$AU15),2))) -> 0 | I15: =AM15+MIN(S14+AC15-AM15,MAX(0,ROUND(ROUND(Долги!$D$19-SUM($AL15:$AU15),2)-(SUM($H15:H15)-SUM($AL15:AL15)),2))) -> 18500 | J15: =AN15+MIN(T14+AD15-AN15,MAX(0,ROUND(ROUND(Долги!$D$19-SUM($AL15:$AU15),2)-(SUM($H15:I15)-SUM($AL15:AM15)),2))) -> 12500 | K15: =AO15+MIN(U14+AE15-AO15,MAX(0,ROUND(ROUND(Долги!$D$19-SUM($AL15:$AU15),2)-(SUM($H15:J15)-SUM($AL15:AN15)),2))) -> 0 | L15: =AP15+MIN(V14+AF15-AP15,MAX(0,ROUND(ROUND(Долги!$D$19-SUM($AL15:$AU15),2)-(SUM($H15:K15)-SUM($AL15:AO15)),2))) -> 0 | M15: =AQ15+MIN(W14+AG15-AQ15,MAX(0,ROUND(ROUND(Долги!$D$19-SUM($AL15:$AU15),2)-(SUM($H15:L15)-SUM($AL15:AP15)),2))) -> 0 | N15: =AR15+MIN(X14+AH15-AR15,MAX(0,ROUND(ROUND(Долги!$D$19-SUM($AL15:$AU15),2)-(SUM($H15:M15)-SUM($AL15:AQ15)),2))) -> 0 | O15: =AS15+MIN(Y14+AI15-AS15,MAX(0,ROUND(ROUND(Долги!$D$19-SUM($AL15:$AU15),2)-(SUM($H15:N15)-SUM($AL15:AR15)),2))) -> 0 | P15: =AT15+MIN(Z14+AJ15-AT15,MAX(0,ROUND(ROUND(Долги!$D$19-SUM($AL15:$AU15),2)-(SUM($H15:O15)-SUM($AL15:AS15)),2))) -> 0 | Q15: =AU15+MIN(AA14+AK15-AU15,MAX(0,ROUND(ROUND(Долги!$D$19-SUM($AL15:$AU15),2)-(SUM($H15:P15)-SUM($AL15:AT15)),2))) -> 0 | R15: =IF(R14+AB15-H15<=0.01,0,ROUND(R14+AB15-H15,2)) -> 0 | S15: =IF(S14+AC15-I15<=0.01,0,ROUND(S14+AC15-I15,2)) -> 57084.87 | T15: =IF(T14+AD15-J15<=0.01,0,ROUND(T14+AD15-J15,2)) -> 201270.25 | U15: =IF(U14+AE15-K15<=0.01,0,ROUND(U14+AE15-K15,2)) -> 0 | V15: =IF(V14+AF15-L15<=0.01,0,ROUND(V14+AF15-L15,2)) -> 0 | W15: =IF(W14+AG15-M15<=0.01,0,ROUND(W14+AG15-M15,2)) -> 0 | X15: =IF(X14+AH15-N15<=0.01,0,ROUND(X14+AH15-N15,2)) -> 0 | Y15: =IF(Y14+AI15-O15<=0.01,0,ROUND(Y14+AI15-O15,2)) -> 0 | ... AA15: =IF(AA14+AK15-Q15<=0.01,0,ROUND(AA14+AK15-Q15,2)) -> 0 | AB15: =ROUND(R14*AB$5/1200,2) -> 0 | AC15: =ROUND(S14*AC$5/1200,2) -> 1178.11 | AD15: =ROUND(T14*AD$5/1200,2) -> 6879.13 | AE15: =ROUND(U14*AE$5/1200,2) -> 0 | AF15: =ROUND(V14*AF$5/1200,2) -> 0 | AG15: =ROUND(W14*AG$5/1200,2) -> 0 | AH15: =ROUND(X14*AH$5/1200,2) -> 0 | AI15: =ROUND(Y14*AI$5/1200,2) -> 0 | ... AK15: =ROUND(AA14*AK$5/1200,2) -> 0 | AL15: =MIN(AL$5,R14+AB15) -> 0 | AM15: =MIN(AM$5,S14+AC15) -> 6500 | AN15: =MIN(AN$5,T14+AD15) -> 12500 | AO15: =MIN(AO$5,U14+AE15) -> 0 | AP15: =MIN(AP$5,V14+AF15) -> 0 | AQ15: =MIN(AQ$5,W14+AG15) -> 0 | AR15: =MIN(AR$5,X14+AH15) -> 0 | AS15: =MIN(AS$5,Y14+AI15) -> 0 | ... AU15: =MIN(AU$5,AA14+AK15) -> 0
A16: =IF(F15>0.005,11,"") -> 11 | B16: =IF(A16="","",EDATE(Долги!$D$5,10)) -> 46600 | C16: =SUM(H16:Q16) -> 31000 | D16: =SUM(AB16:AK16) -> 7596.08 | E16: =C16-D16 -> 23403.92 | F16: =SUM(R16:AA16) -> 234951.2 | G16: =IF(OR(A16="",$F$5<=0),"",REPT("█",ROUND(20*F16/$F$5,0))) -> ██████████ | H16: =AL16+MIN(R15+AB16-AL16,MAX(0,ROUND(Долги!$D$19-SUM($AL16:$AU16),2))) -> 0 | I16: =AM16+MIN(S15+AC16-AM16,MAX(0,ROUND(ROUND(Долги!$D$19-SUM($AL16:$AU16),2)-(SUM($H16:H16)-SUM($AL16:AL16)),2))) -> 18500 | J16: =AN16+MIN(T15+AD16-AN16,MAX(0,ROUND(ROUND(Долги!$D$19-SUM($AL16:$AU16),2)-(SUM($H16:I16)-SUM($AL16:AM16)),2))) -> 12500 | K16: =AO16+MIN(U15+AE16-AO16,MAX(0,ROUND(ROUND(Долги!$D$19-SUM($AL16:$AU16),2)-(SUM($H16:J16)-SUM($AL16:AN16)),2))) -> 0 | L16: =AP16+MIN(V15+AF16-AP16,MAX(0,ROUND(ROUND(Долги!$D$19-SUM($AL16:$AU16),2)-(SUM($H16:K16)-SUM($AL16:AO16)),2))) -> 0 | M16: =AQ16+MIN(W15+AG16-AQ16,MAX(0,ROUND(ROUND(Долги!$D$19-SUM($AL16:$AU16),2)-(SUM($H16:L16)-SUM($AL16:AP16)),2))) -> 0 | N16: =AR16+MIN(X15+AH16-AR16,MAX(0,ROUND(ROUND(Долги!$D$19-SUM($AL16:$AU16),2)-(SUM($H16:M16)-SUM($AL16:AQ16)),2))) -> 0 | O16: =AS16+MIN(Y15+AI16-AS16,MAX(0,ROUND(ROUND(Долги!$D$19-SUM($AL16:$AU16),2)-(SUM($H16:N16)-SUM($AL16:AR16)),2))) -> 0 | P16: =AT16+MIN(Z15+AJ16-AT16,MAX(0,ROUND(ROUND(Долги!$D$19-SUM($AL16:$AU16),2)-(SUM($H16:O16)-SUM($AL16:AS16)),2))) -> 0 | Q16: =AU16+MIN(AA15+AK16-AU16,MAX(0,ROUND(ROUND(Долги!$D$19-SUM($AL16:$AU16),2)-(SUM($H16:P16)-SUM($AL16:AT16)),2))) -> 0 | R16: =IF(R15+AB16-H16<=0.01,0,ROUND(R15+AB16-H16,2)) -> 0 | S16: =IF(S15+AC16-I16<=0.01,0,ROUND(S15+AC16-I16,2)) -> 39488.71 | T16: =IF(T15+AD16-J16<=0.01,0,ROUND(T15+AD16-J16,2)) -> 195462.49 | U16: =IF(U15+AE16-K16<=0.01,0,ROUND(U15+AE16-K16,2)) -> 0 | V16: =IF(V15+AF16-L16<=0.01,0,ROUND(V15+AF16-L16,2)) -> 0 | W16: =IF(W15+AG16-M16<=0.01,0,ROUND(W15+AG16-M16,2)) -> 0 | X16: =IF(X15+AH16-N16<=0.01,0,ROUND(X15+AH16-N16,2)) -> 0 | Y16: =IF(Y15+AI16-O16<=0.01,0,ROUND(Y15+AI16-O16,2)) -> 0 | ... AA16: =IF(AA15+AK16-Q16<=0.01,0,ROUND(AA15+AK16-Q16,2)) -> 0 | AB16: =ROUND(R15*AB$5/1200,2) -> 0 | AC16: =ROUND(S15*AC$5/1200,2) -> 903.84 | AD16: =ROUND(T15*AD$5/1200,2) -> 6692.24 | AE16: =ROUND(U15*AE$5/1200,2) -> 0 | AF16: =ROUND(V15*AF$5/1200,2) -> 0 | AG16: =ROUND(W15*AG$5/1200,2) -> 0 | AH16: =ROUND(X15*AH$5/1200,2) -> 0 | AI16: =ROUND(Y15*AI$5/1200,2) -> 0 | ... AK16: =ROUND(AA15*AK$5/1200,2) -> 0 | AL16: =MIN(AL$5,R15+AB16) -> 0 | AM16: =MIN(AM$5,S15+AC16) -> 6500 | AN16: =MIN(AN$5,T15+AD16) -> 12500 | AO16: =MIN(AO$5,U15+AE16) -> 0 | AP16: =MIN(AP$5,V15+AF16) -> 0 | AQ16: =MIN(AQ$5,W15+AG16) -> 0 | AR16: =MIN(AR$5,X15+AH16) -> 0 | AS16: =MIN(AS$5,Y15+AI16) -> 0 | ... AU16: =MIN(AU$5,AA15+AK16) -> 0
A17: =IF(F16>0.005,12,"") -> 12 | B17: =IF(A17="","",EDATE(Долги!$D$5,11)) -> 46631 | C17: =SUM(H17:Q17) -> 31000 | D17: =SUM(AB17:AK17) -> 7124.37 | E17: =C17-D17 -> 23875.63 | F17: =SUM(R17:AA17) -> 211075.57 | G17: =IF(OR(A17="",$F$5<=0),"",REPT("█",ROUND(20*F17/$F$5,0))) -> █████████ | H17: =AL17+MIN(R16+AB17-AL17,MAX(0,ROUND(Долги!$D$19-SUM($AL17:$AU17),2))) -> 0 | I17: =AM17+MIN(S16+AC17-AM17,MAX(0,ROUND(ROUND(Долги!$D$19-SUM($AL17:$AU17),2)-(SUM($H17:H17)-SUM($AL17:AL17)),2))) -> 18500 | J17: =AN17+MIN(T16+AD17-AN17,MAX(0,ROUND(ROUND(Долги!$D$19-SUM($AL17:$AU17),2)-(SUM($H17:I17)-SUM($AL17:AM17)),2))) -> 12500 | K17: =AO17+MIN(U16+AE17-AO17,MAX(0,ROUND(ROUND(Долги!$D$19-SUM($AL17:$AU17),2)-(SUM($H17:J17)-SUM($AL17:AN17)),2))) -> 0 | L17: =AP17+MIN(V16+AF17-AP17,MAX(0,ROUND(ROUND(Долги!$D$19-SUM($AL17:$AU17),2)-(SUM($H17:K17)-SUM($AL17:AO17)),2))) -> 0 | M17: =AQ17+MIN(W16+AG17-AQ17,MAX(0,ROUND(ROUND(Долги!$D$19-SUM($AL17:$AU17),2)-(SUM($H17:L17)-SUM($AL17:AP17)),2))) -> 0 | N17: =AR17+MIN(X16+AH17-AR17,MAX(0,ROUND(ROUND(Долги!$D$19-SUM($AL17:$AU17),2)-(SUM($H17:M17)-SUM($AL17:AQ17)),2))) -> 0 | O17: =AS17+MIN(Y16+AI17-AS17,MAX(0,ROUND(ROUND(Долги!$D$19-SUM($AL17:$AU17),2)-(SUM($H17:N17)-SUM($AL17:AR17)),2))) -> 0 | P17: =AT17+MIN(Z16+AJ17-AT17,MAX(0,ROUND(ROUND(Долги!$D$19-SUM($AL17:$AU17),2)-(SUM($H17:O17)-SUM($AL17:AS17)),2))) -> 0 | Q17: =AU17+MIN(AA16+AK17-AU17,MAX(0,ROUND(ROUND(Долги!$D$19-SUM($AL17:$AU17),2)-(SUM($H17:P17)-SUM($AL17:AT17)),2))) -> 0 | R17: =IF(R16+AB17-H17<=0.01,0,ROUND(R16+AB17-H17,2)) -> 0 | S17: =IF(S16+AC17-I17<=0.01,0,ROUND(S16+AC17-I17,2)) -> 21613.95 | T17: =IF(T16+AD17-J17<=0.01,0,ROUND(T16+AD17-J17,2)) -> 189461.62 | U17: =IF(U16+AE17-K17<=0.01,0,ROUND(U16+AE17-K17,2)) -> 0 | V17: =IF(V16+AF17-L17<=0.01,0,ROUND(V16+AF17-L17,2)) -> 0 | W17: =IF(W16+AG17-M17<=0.01,0,ROUND(W16+AG17-M17,2)) -> 0 | X17: =IF(X16+AH17-N17<=0.01,0,ROUND(X16+AH17-N17,2)) -> 0 | Y17: =IF(Y16+AI17-O17<=0.01,0,ROUND(Y16+AI17-O17,2)) -> 0 | ... AA17: =IF(AA16+AK17-Q17<=0.01,0,ROUND(AA16+AK17-Q17,2)) -> 0 | AB17: =ROUND(R16*AB$5/1200,2) -> 0 | AC17: =ROUND(S16*AC$5/1200,2) -> 625.24 | AD17: =ROUND(T16*AD$5/1200,2) -> 6499.13 | AE17: =ROUND(U16*AE$5/1200,2) -> 0 | AF17: =ROUND(V16*AF$5/1200,2) -> 0 | AG17: =ROUND(W16*AG$5/1200,2) -> 0 | AH17: =ROUND(X16*AH$5/1200,2) -> 0 | AI17: =ROUND(Y16*AI$5/1200,2) -> 0 | ... AK17: =ROUND(AA16*AK$5/1200,2) -> 0 | AL17: =MIN(AL$5,R16+AB17) -> 0 | AM17: =MIN(AM$5,S16+AC17) -> 6500 | AN17: =MIN(AN$5,T16+AD17) -> 12500 | AO17: =MIN(AO$5,U16+AE17) -> 0 | AP17: =MIN(AP$5,V16+AF17) -> 0 | AQ17: =MIN(AQ$5,W16+AG17) -> 0 | AR17: =MIN(AR$5,X16+AH17) -> 0 | AS17: =MIN(AS$5,Y16+AI17) -> 0 | ... AU17: =MIN(AU$5,AA16+AK17) -> 0
A18: =IF(F17>0.005,13,"") -> 13 | B18: =IF(A18="","",EDATE(Долги!$D$5,12)) -> 46661 | C18: =SUM(H18:Q18) -> 31000 | D18: =SUM(AB18:AK18) -> 6641.82 | E18: =C18-D18 -> 24358.18 | F18: =SUM(R18:AA18) -> 186717.39 | G18: =IF(OR(A18="",$F$5<=0),"",REPT("█",ROUND(20*F18/$F$5,0))) -> ████████ | H18: =AL18+MIN(R17+AB18-AL18,MAX(0,ROUND(Долги!$D$19-SUM($AL18:$AU18),2))) -> 0 | I18: =AM18+MIN(S17+AC18-AM18,MAX(0,ROUND(ROUND(Долги!$D$19-SUM($AL18:$AU18),2)-(SUM($H18:H18)-SUM($AL18:AL18)),2))) -> 18500 | J18: =AN18+MIN(T17+AD18-AN18,MAX(0,ROUND(ROUND(Долги!$D$19-SUM($AL18:$AU18),2)-(SUM($H18:I18)-SUM($AL18:AM18)),2))) -> 12500 | K18: =AO18+MIN(U17+AE18-AO18,MAX(0,ROUND(ROUND(Долги!$D$19-SUM($AL18:$AU18),2)-(SUM($H18:J18)-SUM($AL18:AN18)),2))) -> 0 | L18: =AP18+MIN(V17+AF18-AP18,MAX(0,ROUND(ROUND(Долги!$D$19-SUM($AL18:$AU18),2)-(SUM($H18:K18)-SUM($AL18:AO18)),2))) -> 0 | M18: =AQ18+MIN(W17+AG18-AQ18,MAX(0,ROUND(ROUND(Долги!$D$19-SUM($AL18:$AU18),2)-(SUM($H18:L18)-SUM($AL18:AP18)),2))) -> 0 | N18: =AR18+MIN(X17+AH18-AR18,MAX(0,ROUND(ROUND(Долги!$D$19-SUM($AL18:$AU18),2)-(SUM($H18:M18)-SUM($AL18:AQ18)),2))) -> 0 | O18: =AS18+MIN(Y17+AI18-AS18,MAX(0,ROUND(ROUND(Долги!$D$19-SUM($AL18:$AU18),2)-(SUM($H18:N18)-SUM($AL18:AR18)),2))) -> 0 | P18: =AT18+MIN(Z17+AJ18-AT18,MAX(0,ROUND(ROUND(Долги!$D$19-SUM($AL18:$AU18),2)-(SUM($H18:O18)-SUM($AL18:AS18)),2))) -> 0 | Q18: =AU18+MIN(AA17+AK18-AU18,MAX(0,ROUND(ROUND(Долги!$D$19-SUM($AL18:$AU18),2)-(SUM($H18:P18)-SUM($AL18:AT18)),2))) -> 0 | R18: =IF(R17+AB18-H18<=0.01,0,ROUND(R17+AB18-H18,2)) -> 0 | S18: =IF(S17+AC18-I18<=0.01,0,ROUND(S17+AC18-I18,2)) -> 3456.17 | T18: =IF(T17+AD18-J18<=0.01,0,ROUND(T17+AD18-J18,2)) -> 183261.22 | U18: =IF(U17+AE18-K18<=0.01,0,ROUND(U17+AE18-K18,2)) -> 0 | V18: =IF(V17+AF18-L18<=0.01,0,ROUND(V17+AF18-L18,2)) -> 0 | W18: =IF(W17+AG18-M18<=0.01,0,ROUND(W17+AG18-M18,2)) -> 0 | X18: =IF(X17+AH18-N18<=0.01,0,ROUND(X17+AH18-N18,2)) -> 0 | Y18: =IF(Y17+AI18-O18<=0.01,0,ROUND(Y17+AI18-O18,2)) -> 0 | ... AA18: =IF(AA17+AK18-Q18<=0.01,0,ROUND(AA17+AK18-Q18,2)) -> 0 | AB18: =ROUND(R17*AB$5/1200,2) -> 0 | AC18: =ROUND(S17*AC$5/1200,2) -> 342.22 | AD18: =ROUND(T17*AD$5/1200,2) -> 6299.6 | AE18: =ROUND(U17*AE$5/1200,2) -> 0 | AF18: =ROUND(V17*AF$5/1200,2) -> 0 | AG18: =ROUND(W17*AG$5/1200,2) -> 0 | AH18: =ROUND(X17*AH$5/1200,2) -> 0 | AI18: =ROUND(Y17*AI$5/1200,2) -> 0 | ... AK18: =ROUND(AA17*AK$5/1200,2) -> 0 | AL18: =MIN(AL$5,R17+AB18) -> 0 | AM18: =MIN(AM$5,S17+AC18) -> 6500 | AN18: =MIN(AN$5,T17+AD18) -> 12500 | AO18: =MIN(AO$5,U17+AE18) -> 0 | AP18: =MIN(AP$5,V17+AF18) -> 0 | AQ18: =MIN(AQ$5,W17+AG18) -> 0 | AR18: =MIN(AR$5,X17+AH18) -> 0 | AS18: =MIN(AS$5,Y17+AI18) -> 0 | ... AU18: =MIN(AU$5,AA17+AK18) -> 0
A19: =IF(F18>0.005,14,"") -> 14 | B19: =IF(A19="","",EDATE(Долги!$D$5,13)) -> 46692 | C19: =SUM(H19:Q19) -> 31000 | D19: =SUM(AB19:AK19) -> 6148.16 | E19: =C19-D19 -> 24851.84 | F19: =SUM(R19:AA19) -> 161865.55 | G19: =IF(OR(A19="",$F$5<=0),"",REPT("█",ROUND(20*F19/$F$5,0))) -> ███████ | H19: =AL19+MIN(R18+AB19-AL19,MAX(0,ROUND(Долги!$D$19-SUM($AL19:$AU19),2))) -> 0 | I19: =AM19+MIN(S18+AC19-AM19,MAX(0,ROUND(ROUND(Долги!$D$19-SUM($AL19:$AU19),2)-(SUM($H19:H19)-SUM($AL19:AL19)),2))) -> 3510.89 | J19: =AN19+MIN(T18+AD19-AN19,MAX(0,ROUND(ROUND(Долги!$D$19-SUM($AL19:$AU19),2)-(SUM($H19:I19)-SUM($AL19:AM19)),2))) -> 27489.11 | K19: =AO19+MIN(U18+AE19-AO19,MAX(0,ROUND(ROUND(Долги!$D$19-SUM($AL19:$AU19),2)-(SUM($H19:J19)-SUM($AL19:AN19)),2))) -> 0 | L19: =AP19+MIN(V18+AF19-AP19,MAX(0,ROUND(ROUND(Долги!$D$19-SUM($AL19:$AU19),2)-(SUM($H19:K19)-SUM($AL19:AO19)),2))) -> 0 | M19: =AQ19+MIN(W18+AG19-AQ19,MAX(0,ROUND(ROUND(Долги!$D$19-SUM($AL19:$AU19),2)-(SUM($H19:L19)-SUM($AL19:AP19)),2))) -> 0 | N19: =AR19+MIN(X18+AH19-AR19,MAX(0,ROUND(ROUND(Долги!$D$19-SUM($AL19:$AU19),2)-(SUM($H19:M19)-SUM($AL19:AQ19)),2))) -> 0 | O19: =AS19+MIN(Y18+AI19-AS19,MAX(0,ROUND(ROUND(Долги!$D$19-SUM($AL19:$AU19),2)-(SUM($H19:N19)-SUM($AL19:AR19)),2))) -> 0 | P19: =AT19+MIN(Z18+AJ19-AT19,MAX(0,ROUND(ROUND(Долги!$D$19-SUM($AL19:$AU19),2)-(SUM($H19:O19)-SUM($AL19:AS19)),2))) -> 0 | Q19: =AU19+MIN(AA18+AK19-AU19,MAX(0,ROUND(ROUND(Долги!$D$19-SUM($AL19:$AU19),2)-(SUM($H19:P19)-SUM($AL19:AT19)),2))) -> 0 | R19: =IF(R18+AB19-H19<=0.01,0,ROUND(R18+AB19-H19,2)) -> 0 | S19: =IF(S18+AC19-I19<=0.01,0,ROUND(S18+AC19-I19,2)) -> 0 | T19: =IF(T18+AD19-J19<=0.01,0,ROUND(T18+AD19-J19,2)) -> 161865.55 | U19: =IF(U18+AE19-K19<=0.01,0,ROUND(U18+AE19-K19,2)) -> 0 | V19: =IF(V18+AF19-L19<=0.01,0,ROUND(V18+AF19-L19,2)) -> 0 | W19: =IF(W18+AG19-M19<=0.01,0,ROUND(W18+AG19-M19,2)) -> 0 | X19: =IF(X18+AH19-N19<=0.01,0,ROUND(X18+AH19-N19,2)) -> 0 | Y19: =IF(Y18+AI19-O19<=0.01,0,ROUND(Y18+AI19-O19,2)) -> 0 | ... AA19: =IF(AA18+AK19-Q19<=0.01,0,ROUND(AA18+AK19-Q19,2)) -> 0 | AB19: =ROUND(R18*AB$5/1200,2) -> 0 | AC19: =ROUND(S18*AC$5/1200,2) -> 54.72 | AD19: =ROUND(T18*AD$5/1200,2) -> 6093.44 | AE19: =ROUND(U18*AE$5/1200,2) -> 0 | AF19: =ROUND(V18*AF$5/1200,2) -> 0 | AG19: =ROUND(W18*AG$5/1200,2) -> 0 | AH19: =ROUND(X18*AH$5/1200,2) -> 0 | AI19: =ROUND(Y18*AI$5/1200,2) -> 0 | ... AK19: =ROUND(AA18*AK$5/1200,2) -> 0 | AL19: =MIN(AL$5,R18+AB19) -> 0 | AM19: =MIN(AM$5,S18+AC19) -> 3510.89 | AN19: =MIN(AN$5,T18+AD19) -> 12500 | AO19: =MIN(AO$5,U18+AE19) -> 0 | AP19: =MIN(AP$5,V18+AF19) -> 0 | AQ19: =MIN(AQ$5,W18+AG19) -> 0 | AR19: =MIN(AR$5,X18+AH19) -> 0 | AS19: =MIN(AS$5,Y18+AI19) -> 0 | ... AU19: =MIN(AU$5,AA18+AK19) -> 0
A20: =IF(F19>0.005,15,"") -> 15 | B20: =IF(A20="","",EDATE(Долги!$D$5,14)) -> 46722 | C20: =SUM(H20:Q20) -> 31000 | D20: =SUM(AB20:AK20) -> 5382.03 | E20: =C20-D20 -> 25617.97 | F20: =SUM(R20:AA20) -> 136247.58 | G20: =IF(OR(A20="",$F$5<=0),"",REPT("█",ROUND(20*F20/$F$5,0))) -> ██████ | H20: =AL20+MIN(R19+AB20-AL20,MAX(0,ROUND(Долги!$D$19-SUM($AL20:$AU20),2))) -> 0 | I20: =AM20+MIN(S19+AC20-AM20,MAX(0,ROUND(ROUND(Долги!$D$19-SUM($AL20:$AU20),2)-(SUM($H20:H20)-SUM($AL20:AL20)),2))) -> 0 | J20: =AN20+MIN(T19+AD20-AN20,MAX(0,ROUND(ROUND(Долги!$D$19-SUM($AL20:$AU20),2)-(SUM($H20:I20)-SUM($AL20:AM20)),2))) -> 31000 | K20: =AO20+MIN(U19+AE20-AO20,MAX(0,ROUND(ROUND(Долги!$D$19-SUM($AL20:$AU20),2)-(SUM($H20:J20)-SUM($AL20:AN20)),2))) -> 0 | L20: =AP20+MIN(V19+AF20-AP20,MAX(0,ROUND(ROUND(Долги!$D$19-SUM($AL20:$AU20),2)-(SUM($H20:K20)-SUM($AL20:AO20)),2))) -> 0 | M20: =AQ20+MIN(W19+AG20-AQ20,MAX(0,ROUND(ROUND(Долги!$D$19-SUM($AL20:$AU20),2)-(SUM($H20:L20)-SUM($AL20:AP20)),2))) -> 0 | N20: =AR20+MIN(X19+AH20-AR20,MAX(0,ROUND(ROUND(Долги!$D$19-SUM($AL20:$AU20),2)-(SUM($H20:M20)-SUM($AL20:AQ20)),2))) -> 0 | O20: =AS20+MIN(Y19+AI20-AS20,MAX(0,ROUND(ROUND(Долги!$D$19-SUM($AL20:$AU20),2)-(SUM($H20:N20)-SUM($AL20:AR20)),2))) -> 0 | P20: =AT20+MIN(Z19+AJ20-AT20,MAX(0,ROUND(ROUND(Долги!$D$19-SUM($AL20:$AU20),2)-(SUM($H20:O20)-SUM($AL20:AS20)),2))) -> 0 | Q20: =AU20+MIN(AA19+AK20-AU20,MAX(0,ROUND(ROUND(Долги!$D$19-SUM($AL20:$AU20),2)-(SUM($H20:P20)-SUM($AL20:AT20)),2))) -> 0 | R20: =IF(R19+AB20-H20<=0.01,0,ROUND(R19+AB20-H20,2)) -> 0 | S20: =IF(S19+AC20-I20<=0.01,0,ROUND(S19+AC20-I20,2)) -> 0 | T20: =IF(T19+AD20-J20<=0.01,0,ROUND(T19+AD20-J20,2)) -> 136247.58 | U20: =IF(U19+AE20-K20<=0.01,0,ROUND(U19+AE20-K20,2)) -> 0 | V20: =IF(V19+AF20-L20<=0.01,0,ROUND(V19+AF20-L20,2)) -> 0 | W20: =IF(W19+AG20-M20<=0.01,0,ROUND(W19+AG20-M20,2)) -> 0 | X20: =IF(X19+AH20-N20<=0.01,0,ROUND(X19+AH20-N20,2)) -> 0 | Y20: =IF(Y19+AI20-O20<=0.01,0,ROUND(Y19+AI20-O20,2)) -> 0 | ... AA20: =IF(AA19+AK20-Q20<=0.01,0,ROUND(AA19+AK20-Q20,2)) -> 0 | AB20: =ROUND(R19*AB$5/1200,2) -> 0 | AC20: =ROUND(S19*AC$5/1200,2) -> 0 | AD20: =ROUND(T19*AD$5/1200,2) -> 5382.03 | AE20: =ROUND(U19*AE$5/1200,2) -> 0 | AF20: =ROUND(V19*AF$5/1200,2) -> 0 | AG20: =ROUND(W19*AG$5/1200,2) -> 0 | AH20: =ROUND(X19*AH$5/1200,2) -> 0 | AI20: =ROUND(Y19*AI$5/1200,2) -> 0 | ... AK20: =ROUND(AA19*AK$5/1200,2) -> 0 | AL20: =MIN(AL$5,R19+AB20) -> 0 | AM20: =MIN(AM$5,S19+AC20) -> 0 | AN20: =MIN(AN$5,T19+AD20) -> 12500 | AO20: =MIN(AO$5,U19+AE20) -> 0 | AP20: =MIN(AP$5,V19+AF20) -> 0 | AQ20: =MIN(AQ$5,W19+AG20) -> 0 | AR20: =MIN(AR$5,X19+AH20) -> 0 | AS20: =MIN(AS$5,Y19+AI20) -> 0 | ... AU20: =MIN(AU$5,AA19+AK20) -> 0
A21: =IF(F20>0.005,16,"") -> 16 | B21: =IF(A21="","",EDATE(Долги!$D$5,15)) -> 46753 | C21: =SUM(H21:Q21) -> 31000 | D21: =SUM(AB21:AK21) -> 4530.23 | E21: =C21-D21 -> 26469.77 | F21: =SUM(R21:AA21) -> 109777.81 | G21: =IF(OR(A21="",$F$5<=0),"",REPT("█",ROUND(20*F21/$F$5,0))) -> █████ | H21: =AL21+MIN(R20+AB21-AL21,MAX(0,ROUND(Долги!$D$19-SUM($AL21:$AU21),2))) -> 0 | I21: =AM21+MIN(S20+AC21-AM21,MAX(0,ROUND(ROUND(Долги!$D$19-SUM($AL21:$AU21),2)-(SUM($H21:H21)-SUM($AL21:AL21)),2))) -> 0 | J21: =AN21+MIN(T20+AD21-AN21,MAX(0,ROUND(ROUND(Долги!$D$19-SUM($AL21:$AU21),2)-(SUM($H21:I21)-SUM($AL21:AM21)),2))) -> 31000 | K21: =AO21+MIN(U20+AE21-AO21,MAX(0,ROUND(ROUND(Долги!$D$19-SUM($AL21:$AU21),2)-(SUM($H21:J21)-SUM($AL21:AN21)),2))) -> 0 | L21: =AP21+MIN(V20+AF21-AP21,MAX(0,ROUND(ROUND(Долги!$D$19-SUM($AL21:$AU21),2)-(SUM($H21:K21)-SUM($AL21:AO21)),2))) -> 0 | M21: =AQ21+MIN(W20+AG21-AQ21,MAX(0,ROUND(ROUND(Долги!$D$19-SUM($AL21:$AU21),2)-(SUM($H21:L21)-SUM($AL21:AP21)),2))) -> 0 | N21: =AR21+MIN(X20+AH21-AR21,MAX(0,ROUND(ROUND(Долги!$D$19-SUM($AL21:$AU21),2)-(SUM($H21:M21)-SUM($AL21:AQ21)),2))) -> 0 | O21: =AS21+MIN(Y20+AI21-AS21,MAX(0,ROUND(ROUND(Долги!$D$19-SUM($AL21:$AU21),2)-(SUM($H21:N21)-SUM($AL21:AR21)),2))) -> 0 | P21: =AT21+MIN(Z20+AJ21-AT21,MAX(0,ROUND(ROUND(Долги!$D$19-SUM($AL21:$AU21),2)-(SUM($H21:O21)-SUM($AL21:AS21)),2))) -> 0 | Q21: =AU21+MIN(AA20+AK21-AU21,MAX(0,ROUND(ROUND(Долги!$D$19-SUM($AL21:$AU21),2)-(SUM($H21:P21)-SUM($AL21:AT21)),2))) -> 0 | R21: =IF(R20+AB21-H21<=0.01,0,ROUND(R20+AB21-H21,2)) -> 0 | S21: =IF(S20+AC21-I21<=0.01,0,ROUND(S20+AC21-I21,2)) -> 0 | T21: =IF(T20+AD21-J21<=0.01,0,ROUND(T20+AD21-J21,2)) -> 109777.81 | U21: =IF(U20+AE21-K21<=0.01,0,ROUND(U20+AE21-K21,2)) -> 0 | V21: =IF(V20+AF21-L21<=0.01,0,ROUND(V20+AF21-L21,2)) -> 0 | W21: =IF(W20+AG21-M21<=0.01,0,ROUND(W20+AG21-M21,2)) -> 0 | X21: =IF(X20+AH21-N21<=0.01,0,ROUND(X20+AH21-N21,2)) -> 0 | Y21: =IF(Y20+AI21-O21<=0.01,0,ROUND(Y20+AI21-O21,2)) -> 0 | ... AA21: =IF(AA20+AK21-Q21<=0.01,0,ROUND(AA20+AK21-Q21,2)) -> 0 | AB21: =ROUND(R20*AB$5/1200,2) -> 0 | AC21: =ROUND(S20*AC$5/1200,2) -> 0 | AD21: =ROUND(T20*AD$5/1200,2) -> 4530.23 | AE21: =ROUND(U20*AE$5/1200,2) -> 0 | AF21: =ROUND(V20*AF$5/1200,2) -> 0 | AG21: =ROUND(W20*AG$5/1200,2) -> 0 | AH21: =ROUND(X20*AH$5/1200,2) -> 0 | AI21: =ROUND(Y20*AI$5/1200,2) -> 0 | ... AK21: =ROUND(AA20*AK$5/1200,2) -> 0 | AL21: =MIN(AL$5,R20+AB21) -> 0 | AM21: =MIN(AM$5,S20+AC21) -> 0 | AN21: =MIN(AN$5,T20+AD21) -> 12500 | AO21: =MIN(AO$5,U20+AE21) -> 0 | AP21: =MIN(AP$5,V20+AF21) -> 0 | AQ21: =MIN(AQ$5,W20+AG21) -> 0 | AR21: =MIN(AR$5,X20+AH21) -> 0 | AS21: =MIN(AS$5,Y20+AI21) -> 0 | ... AU21: =MIN(AU$5,AA20+AK21) -> 0
A22: =IF(F21>0.005,17,"") -> 17 | B22: =IF(A22="","",EDATE(Долги!$D$5,16)) -> 46784 | C22: =SUM(H22:Q22) -> 31000 | D22: =SUM(AB22:AK22) -> 3650.11 | E22: =C22-D22 -> 27349.89 | F22: =SUM(R22:AA22) -> 82427.92 | G22: =IF(OR(A22="",$F$5<=0),"",REPT("█",ROUND(20*F22/$F$5,0))) -> ████ | H22: =AL22+MIN(R21+AB22-AL22,MAX(0,ROUND(Долги!$D$19-SUM($AL22:$AU22),2))) -> 0 | I22: =AM22+MIN(S21+AC22-AM22,MAX(0,ROUND(ROUND(Долги!$D$19-SUM($AL22:$AU22),2)-(SUM($H22:H22)-SUM($AL22:AL22)),2))) -> 0 | J22: =AN22+MIN(T21+AD22-AN22,MAX(0,ROUND(ROUND(Долги!$D$19-SUM($AL22:$AU22),2)-(SUM($H22:I22)-SUM($AL22:AM22)),2))) -> 31000 | K22: =AO22+MIN(U21+AE22-AO22,MAX(0,ROUND(ROUND(Долги!$D$19-SUM($AL22:$AU22),2)-(SUM($H22:J22)-SUM($AL22:AN22)),2))) -> 0 | L22: =AP22+MIN(V21+AF22-AP22,MAX(0,ROUND(ROUND(Долги!$D$19-SUM($AL22:$AU22),2)-(SUM($H22:K22)-SUM($AL22:AO22)),2))) -> 0 | M22: =AQ22+MIN(W21+AG22-AQ22,MAX(0,ROUND(ROUND(Долги!$D$19-SUM($AL22:$AU22),2)-(SUM($H22:L22)-SUM($AL22:AP22)),2))) -> 0 | N22: =AR22+MIN(X21+AH22-AR22,MAX(0,ROUND(ROUND(Долги!$D$19-SUM($AL22:$AU22),2)-(SUM($H22:M22)-SUM($AL22:AQ22)),2))) -> 0 | O22: =AS22+MIN(Y21+AI22-AS22,MAX(0,ROUND(ROUND(Долги!$D$19-SUM($AL22:$AU22),2)-(SUM($H22:N22)-SUM($AL22:AR22)),2))) -> 0 | P22: =AT22+MIN(Z21+AJ22-AT22,MAX(0,ROUND(ROUND(Долги!$D$19-SUM($AL22:$AU22),2)-(SUM($H22:O22)-SUM($AL22:AS22)),2))) -> 0 | Q22: =AU22+MIN(AA21+AK22-AU22,MAX(0,ROUND(ROUND(Долги!$D$19-SUM($AL22:$AU22),2)-(SUM($H22:P22)-SUM($AL22:AT22)),2))) -> 0 | R22: =IF(R21+AB22-H22<=0.01,0,ROUND(R21+AB22-H22,2)) -> 0 | S22: =IF(S21+AC22-I22<=0.01,0,ROUND(S21+AC22-I22,2)) -> 0 | T22: =IF(T21+AD22-J22<=0.01,0,ROUND(T21+AD22-J22,2)) -> 82427.92 | U22: =IF(U21+AE22-K22<=0.01,0,ROUND(U21+AE22-K22,2)) -> 0 | V22: =IF(V21+AF22-L22<=0.01,0,ROUND(V21+AF22-L22,2)) -> 0 | W22: =IF(W21+AG22-M22<=0.01,0,ROUND(W21+AG22-M22,2)) -> 0 | X22: =IF(X21+AH22-N22<=0.01,0,ROUND(X21+AH22-N22,2)) -> 0 | Y22: =IF(Y21+AI22-O22<=0.01,0,ROUND(Y21+AI22-O22,2)) -> 0 | ... AA22: =IF(AA21+AK22-Q22<=0.01,0,ROUND(AA21+AK22-Q22,2)) -> 0 | AB22: =ROUND(R21*AB$5/1200,2) -> 0 | AC22: =ROUND(S21*AC$5/1200,2) -> 0 | AD22: =ROUND(T21*AD$5/1200,2) -> 3650.11 | AE22: =ROUND(U21*AE$5/1200,2) -> 0 | AF22: =ROUND(V21*AF$5/1200,2) -> 0 | AG22: =ROUND(W21*AG$5/1200,2) -> 0 | AH22: =ROUND(X21*AH$5/1200,2) -> 0 | AI22: =ROUND(Y21*AI$5/1200,2) -> 0 | ... AK22: =ROUND(AA21*AK$5/1200,2) -> 0 | AL22: =MIN(AL$5,R21+AB22) -> 0 | AM22: =MIN(AM$5,S21+AC22) -> 0 | AN22: =MIN(AN$5,T21+AD22) -> 12500 | AO22: =MIN(AO$5,U21+AE22) -> 0 | AP22: =MIN(AP$5,V21+AF22) -> 0 | AQ22: =MIN(AQ$5,W21+AG22) -> 0 | AR22: =MIN(AR$5,X21+AH22) -> 0 | AS22: =MIN(AS$5,Y21+AI22) -> 0 | ... AU22: =MIN(AU$5,AA21+AK22) -> 0
